BEGIN:VCALENDAR
VERSION:2.0
PRODID:-//Fundació Hospitalàries Barcelona - ECPv6.15.15//NONSGML v1.0//EN
CALSCALE:GREGORIAN
METHOD:PUBLISH
X-WR-CALNAME:Fundació Hospitalàries Barcelona
X-ORIGINAL-URL:https://www.fundaciohospitalariesbarcelona.org
X-WR-CALDESC:Eventos para Fundació Hospitalàries Barcelona
REFRESH-INTERVAL;VALUE=DURATION:PT1H
X-Robots-Tag:noindex
X-PUBLISHED-TTL:PT1H
BEGIN:VTIMEZONE
TZID:Europe/Madrid
BEGIN:DAYLIGHT
TZOFFSETFROM:+0100
TZOFFSETTO:+0200
TZNAME:CEST
DTSTART:20230326T010000
END:DAYLIGHT
BEGIN:STANDARD
TZOFFSETFROM:+0200
TZOFFSETTO:+0100
TZNAME:CET
DTSTART:20231029T010000
END:STANDARD
BEGIN:DAYLIGHT
TZOFFSETFROM:+0100
TZOFFSETTO:+0200
TZNAME:CEST
DTSTART:20240331T010000
END:DAYLIGHT
BEGIN:STANDARD
TZOFFSETFROM:+0200
TZOFFSETTO:+0100
TZNAME:CET
DTSTART:20241027T010000
END:STANDARD
BEGIN:DAYLIGHT
TZOFFSETFROM:+0100
TZOFFSETTO:+0200
TZNAME:CEST
DTSTART:20250330T010000
END:DAYLIGHT
BEGIN:STANDARD
TZOFFSETFROM:+0200
TZOFFSETTO:+0100
TZNAME:CET
DTSTART:20251026T010000
END:STANDARD
END:VTIMEZONE
BEGIN:VEVENT
DTSTART;TZID=Europe/Madrid:20240926T080000
DTEND;TZID=Europe/Madrid:20240926T090000
DTSTAMP:20260419T214228
CREATED:20240812T070101Z
LAST-MODIFIED:20240812T070101Z
UID:10000011-1727337600-1727341200@www.fundaciohospitalariesbarcelona.org
SUMMARY:Sesión general 'Fes sempre 3 preguntes'
DESCRIPTION:El 26 de septiembre\, de 8 a 9 h en la sala de actos del Hospital\, tendrá lugar la sesión general Projecte Fes sempre 3 preguntes\, y será impartida por la Comisión de Promoción de la Salud del Hospital Sant Rafael. \nPodéis acceder al programa de sesiones generales 2024 en el documento adjunto.
URL:https://www.fundaciohospitalariesbarcelona.org/esdeveniment/sesion-general-fes-sempre-3-preguntes/
LOCATION:Sala d’actes Hospital Sant Rafael\, Pg. de la Vall d'Hebron\, 107\, Barcelona\, Barcelona\, 08035\, Espanya
END:VEVENT
END:VCALENDAR