BEGIN:VCALENDAR
VERSION:2.0
PRODID:-//Fundació Hospitalàries Barcelona - ECPv6.15.15//NONSGML v1.0//EN
CALSCALE:GREGORIAN
METHOD:PUBLISH
X-ORIGINAL-URL:https://www.fundaciohospitalariesbarcelona.org
X-WR-CALDESC:Eventos para Fundació Hospitalàries Barcelona
REFRESH-INTERVAL;VALUE=DURATION:PT1H
X-Robots-Tag:noindex
X-PUBLISHED-TTL:PT1H
BEGIN:VTIMEZONE
TZID:Europe/Madrid
BEGIN:DAYLIGHT
TZOFFSETFROM:+0100
TZOFFSETTO:+0200
TZNAME:CEST
DTSTART:20230326T010000
END:DAYLIGHT
BEGIN:STANDARD
TZOFFSETFROM:+0200
TZOFFSETTO:+0100
TZNAME:CET
DTSTART:20231029T010000
END:STANDARD
BEGIN:DAYLIGHT
TZOFFSETFROM:+0100
TZOFFSETTO:+0200
TZNAME:CEST
DTSTART:20240331T010000
END:DAYLIGHT
BEGIN:STANDARD
TZOFFSETFROM:+0200
TZOFFSETTO:+0100
TZNAME:CET
DTSTART:20241027T010000
END:STANDARD
BEGIN:DAYLIGHT
TZOFFSETFROM:+0100
TZOFFSETTO:+0200
TZNAME:CEST
DTSTART:20250330T010000
END:DAYLIGHT
BEGIN:STANDARD
TZOFFSETFROM:+0200
TZOFFSETTO:+0100
TZNAME:CET
DTSTART:20251026T010000
END:STANDARD
END:VTIMEZONE
BEGIN:VEVENT
DTSTART;TZID=Europe/Madrid:20241024T153000
DTEND;TZID=Europe/Madrid:20241024T170000
DTSTAMP:20260419T231635
CREATED:20240812T070911Z
LAST-MODIFIED:20240812T070911Z
UID:10000013-1729783800-1729789200@www.fundaciohospitalariesbarcelona.org
SUMMARY:Club de lectura: El olvido que seremos\, de Héctor Abad
DESCRIPTION:La primera sesión del Club de Lectura San Rafael del curso 2024-2025 se centrará en «El olvido que seremos»\, de Héctor Abad. Es una obra de ficción basada en hechos reales. El autor reconstruye la vida de su padre\, un médico en Colombia\, asesinado por la guerrilla. La sesión será\, como siempre\, de 15:30 a 17:00 horas\, en la biblioteca del Hospital. \nEl Club de Lectura es una iniciativa humanística y formativa del Comité de Ética Asistencial del Hospital Sant Rafael\, con el apoyo de la Societat Catalana de Bioètica\, Barcelona\, Ciutat de la Literatura\, y la Universitat Oberta de Catalunya. \nLos objetivos de este proyecto son\, por un lado\, mejorar la atención que reciben las personas enfermas\, sus cuidadores y acompañantes. Por otro lado\, contribuir a incrementar la sensibilidad y la capacidad de respuesta empática de los profesionales sanitarios\, y comprender\, a través de los textos literarios\, las diferentes vivencias que pueden tener los pacientes sobre sus enfermedades. Se trata de un proyecto acreditado por el Consell Català de Formació Continuada de les Professions Sanitàries.
URL:https://www.fundaciohospitalariesbarcelona.org/esdeveniment/club-de-lectura-el-olvido-que-seremos-de-hector-abad/
LOCATION:Biblioteca Hospital Sant Rafael\, Pg. de la Vall d'Hebron\, 107-117\, Barcelona\, Barcelona\, 08011
END:VEVENT
BEGIN:VEVENT
DTSTART;TZID=Europe/Madrid:20241024T153000
DTEND;TZID=Europe/Madrid:20241024T170000
DTSTAMP:20260419T231635
CREATED:20241008T065055Z
LAST-MODIFIED:20241008T065055Z
UID:10000021-1729783800-1729789200@www.fundaciohospitalariesbarcelona.org
SUMMARY:Club de lectura: María y yo\, de Miguel Gallardo
DESCRIPTION:La segunda sesión del Club de Lectura San Rafael del curso 2024-2025 se centrará en María y yo\, de Héctor Abad. Esta novela gráfica está basada en las experiencias de Miguel Gallardo y su hija María. Es una historia de amor\, aceptación\, empatía y comprensión\, para entender mejor el autismo y para aprender a comunicarnos y convivir con las personas que tienen esta condición. La sesión será\, como siempre\, de 15:30 a 17:00 horas\, en la biblioteca del Hospital. \nPodéis acceder al programa completo de la 7ª edición del Club de Lectura aquí. \nEl Club de Lectura es una iniciativa humanística y formativa del Comité de Ética Asistencial del Hospital Sant Rafael\, con el apoyo de la Societat Catalana de Bioètica\, Barcelona\, Ciutat de la Literatura\, y la Universitat Oberta de Catalunya. \nLos objetivos de este proyecto son\, por un lado\, mejorar la atención que reciben las personas enfermas\, sus cuidadores y acompañantes. Por otro lado\, contribuir a incrementar la sensibilidad y la capacidad de respuesta empática de los profesionales sanitarios\, y comprender\, a través de los textos literarios\, las diferentes vivencias que pueden tener los pacientes sobre sus enfermedades. Se trata de un proyecto acreditado por el Consell Català de Formació Continuada de les Professions Sanitàries.
URL:https://www.fundaciohospitalariesbarcelona.org/esdeveniment/club-de-lectura-maria-y-yo-de-miguel-gallardo/
LOCATION:Biblioteca Hospital Sant Rafael\, Pg. de la Vall d'Hebron\, 107-117\, Barcelona\, Barcelona\, 08011
END:VEVENT
END:VCALENDAR