BEGIN:VCALENDAR
VERSION:2.0
PRODID:-//Fundació Hospitalàries Barcelona - ECPv6.15.15//NONSGML v1.0//EN
CALSCALE:GREGORIAN
METHOD:PUBLISH
X-WR-CALNAME:Fundació Hospitalàries Barcelona
X-ORIGINAL-URL:https://www.fundaciohospitalariesbarcelona.org
X-WR-CALDESC:Eventos para Fundació Hospitalàries Barcelona
REFRESH-INTERVAL;VALUE=DURATION:PT1H
X-Robots-Tag:noindex
X-PUBLISHED-TTL:PT1H
BEGIN:VTIMEZONE
TZID:Europe/Madrid
BEGIN:DAYLIGHT
TZOFFSETFROM:+0100
TZOFFSETTO:+0200
TZNAME:CEST
DTSTART:20230326T010000
END:DAYLIGHT
BEGIN:STANDARD
TZOFFSETFROM:+0200
TZOFFSETTO:+0100
TZNAME:CET
DTSTART:20231029T010000
END:STANDARD
BEGIN:DAYLIGHT
TZOFFSETFROM:+0100
TZOFFSETTO:+0200
TZNAME:CEST
DTSTART:20240331T010000
END:DAYLIGHT
BEGIN:STANDARD
TZOFFSETFROM:+0200
TZOFFSETTO:+0100
TZNAME:CET
DTSTART:20241027T010000
END:STANDARD
BEGIN:DAYLIGHT
TZOFFSETFROM:+0100
TZOFFSETTO:+0200
TZNAME:CEST
DTSTART:20250330T010000
END:DAYLIGHT
BEGIN:STANDARD
TZOFFSETFROM:+0200
TZOFFSETTO:+0100
TZNAME:CET
DTSTART:20251026T010000
END:STANDARD
END:VTIMEZONE
BEGIN:VEVENT
DTSTART;TZID=Europe/Madrid:20241025T080000
DTEND;TZID=Europe/Madrid:20241025T140000
DTSTAMP:20260419T231428
CREATED:20240719T093527Z
LAST-MODIFIED:20240719T093527Z
UID:10000008-1729843200-1729864800@www.fundaciohospitalariesbarcelona.org
SUMMARY:Cataractes 2.0
DESCRIPTION:El Hospital Sant Rafael\, en colaboración con FIDMAG Hermanas Hospitalarias Research Foundation\, organizará\, el 25 de octubre\, una jornada de actualización sobre la cirugía de cataratas\, con el título Cataractes 2.0. Durante toda la jornada\, se analizará el antes\, durante y después de este tipo de cirugía. \nLa inscripción es gratuita pero limitada por cuestiones de espacio. Las personas interesadas en participar o que quieran tener más información pueden escribir un correo a la dirección electrónica tgarrido.hsrafael@hospitalarias.es. \nEsta actividad está acreditada por la Sociedad Catalana de Oftalmología. \nMás información en este díptico.
URL:https://www.fundaciohospitalariesbarcelona.org/esdeveniment/cataractes-2-0/
LOCATION:Sala d’actes Hospital Sant Rafael\, Pg. de la Vall d'Hebron\, 107\, Barcelona\, Barcelona\, 08035\, Espanya
END:VEVENT
END:VCALENDAR