BEGIN:VCALENDAR
VERSION:2.0
PRODID:-//Fundació Hospitalàries Barcelona - ECPv6.15.15//NONSGML v1.0//EN
CALSCALE:GREGORIAN
METHOD:PUBLISH
X-WR-CALNAME:Fundació Hospitalàries Barcelona
X-ORIGINAL-URL:https://www.fundaciohospitalariesbarcelona.org
X-WR-CALDESC:Eventos para Fundació Hospitalàries Barcelona
REFRESH-INTERVAL;VALUE=DURATION:PT1H
X-Robots-Tag:noindex
X-PUBLISHED-TTL:PT1H
BEGIN:VTIMEZONE
TZID:Europe/Madrid
BEGIN:DAYLIGHT
TZOFFSETFROM:+0100
TZOFFSETTO:+0200
TZNAME:CEST
DTSTART:20240331T010000
END:DAYLIGHT
BEGIN:STANDARD
TZOFFSETFROM:+0200
TZOFFSETTO:+0100
TZNAME:CET
DTSTART:20241027T010000
END:STANDARD
BEGIN:DAYLIGHT
TZOFFSETFROM:+0100
TZOFFSETTO:+0200
TZNAME:CEST
DTSTART:20250330T010000
END:DAYLIGHT
BEGIN:STANDARD
TZOFFSETFROM:+0200
TZOFFSETTO:+0100
TZNAME:CET
DTSTART:20251026T010000
END:STANDARD
BEGIN:DAYLIGHT
TZOFFSETFROM:+0100
TZOFFSETTO:+0200
TZNAME:CEST
DTSTART:20260329T010000
END:DAYLIGHT
BEGIN:STANDARD
TZOFFSETFROM:+0200
TZOFFSETTO:+0100
TZNAME:CET
DTSTART:20261025T010000
END:STANDARD
END:VTIMEZONE
BEGIN:VEVENT
DTSTART;TZID=Europe/Madrid:20250201T083000
DTEND;TZID=Europe/Madrid:20250201T110000
DTSTAMP:20260420T035839
CREATED:20250124T123222Z
LAST-MODIFIED:20250224T075333Z
UID:10000034-1738398600-1738407600@www.fundaciohospitalariesbarcelona.org
SUMMARY:Salida de marcha nordica - 1 de febrero
DESCRIPTION:El sábado 1 de febrero a las 08:45 h tendrá lugar una salida de marcha nórdica con una duración de unas dos horas. \nOs podéis inscribir enviando un correo electrónico a marxanordica2.hsrafael@hospitalarias.es con los siguientes datos:\nNOMBRE y APELLIDOS\nTELÉFONO\nSI (apuntar altura) o NO necesita bastones \nEl importe de la salida es 8€ y\, si necesita bastones\, 10€. \nSe enviará un correo confirmando plaza y la información de la salida a medida que se vayan inscribiendo. \n¡Importante! La fecha límite para inscribirse es el miércoles 29 de enero. Las plazas son limitadas.
URL:https://www.fundaciohospitalariesbarcelona.org/esdeveniment/salida-de-marcha-nordica-1-de-febrero/
LOCATION:Fundació Hospitalàries Barcelona\, Pg. de la Vall d'Hebron\, 107-117\, Barcelona
END:VEVENT
END:VCALENDAR