BEGIN:VCALENDAR
VERSION:2.0
PRODID:-//Fundació Hospitalàries Barcelona - ECPv6.15.15//NONSGML v1.0//EN
CALSCALE:GREGORIAN
METHOD:PUBLISH
X-ORIGINAL-URL:https://www.fundaciohospitalariesbarcelona.org
X-WR-CALDESC:Eventos para Fundació Hospitalàries Barcelona
REFRESH-INTERVAL;VALUE=DURATION:PT1H
X-Robots-Tag:noindex
X-PUBLISHED-TTL:PT1H
BEGIN:VTIMEZONE
TZID:Europe/Madrid
BEGIN:DAYLIGHT
TZOFFSETFROM:+0100
TZOFFSETTO:+0200
TZNAME:CEST
DTSTART:20240331T010000
END:DAYLIGHT
BEGIN:STANDARD
TZOFFSETFROM:+0200
TZOFFSETTO:+0100
TZNAME:CET
DTSTART:20241027T010000
END:STANDARD
BEGIN:DAYLIGHT
TZOFFSETFROM:+0100
TZOFFSETTO:+0200
TZNAME:CEST
DTSTART:20250330T010000
END:DAYLIGHT
BEGIN:STANDARD
TZOFFSETFROM:+0200
TZOFFSETTO:+0100
TZNAME:CET
DTSTART:20251026T010000
END:STANDARD
BEGIN:DAYLIGHT
TZOFFSETFROM:+0100
TZOFFSETTO:+0200
TZNAME:CEST
DTSTART:20260329T010000
END:DAYLIGHT
BEGIN:STANDARD
TZOFFSETFROM:+0200
TZOFFSETTO:+0100
TZNAME:CET
DTSTART:20261025T010000
END:STANDARD
END:VTIMEZONE
BEGIN:VEVENT
DTSTART;TZID=Europe/Madrid:20250227T080000
DTEND;TZID=Europe/Madrid:20250227T090000
DTSTAMP:20260420T054921
CREATED:20250224T195224Z
LAST-MODIFIED:20250224T195810Z
UID:10000040-1740643200-1740646800@www.fundaciohospitalariesbarcelona.org
SUMMARY:Sesión general Enfermedades minoritarias
DESCRIPTION:El 27 de febrero\, de 8 a 9 h en el salón de actos del Hospital\, tendrá lugar la sesión general «Enfermedades minoritarias»\, la cual será impartida por el doctor Vicente Garcia\, referente del Servicio de Neurología de la Fundación Hospitalarias Barcelona\, ​​y del doctor Juan Ramón Porqueras\, médico jubilado de medicina interna\, y contará con el testimonio de un paciente. \nPuede acceder al programa de sesiones generales 2025.
URL:https://www.fundaciohospitalariesbarcelona.org/esdeveniment/sesion-general-enfermedades-minoritarias/
LOCATION:Sala d’actes Fundació Hospitalàries Barcelona\, Pg. de la Vall d'Hebron\, 107\, Barcelona\, Barcelona\, 08035
END:VEVENT
END:VCALENDAR