BEGIN:VCALENDAR
VERSION:2.0
PRODID:-//Fundació Hospitalàries Barcelona - ECPv6.15.15//NONSGML v1.0//EN
CALSCALE:GREGORIAN
METHOD:PUBLISH
X-WR-CALNAME:Fundació Hospitalàries Barcelona
X-ORIGINAL-URL:https://www.fundaciohospitalariesbarcelona.org
X-WR-CALDESC:Eventos para Fundació Hospitalàries Barcelona
REFRESH-INTERVAL;VALUE=DURATION:PT1H
X-Robots-Tag:noindex
X-PUBLISHED-TTL:PT1H
BEGIN:VTIMEZONE
TZID:Europe/Madrid
BEGIN:DAYLIGHT
TZOFFSETFROM:+0100
TZOFFSETTO:+0200
TZNAME:CEST
DTSTART:20240331T010000
END:DAYLIGHT
BEGIN:STANDARD
TZOFFSETFROM:+0200
TZOFFSETTO:+0100
TZNAME:CET
DTSTART:20241027T010000
END:STANDARD
BEGIN:DAYLIGHT
TZOFFSETFROM:+0100
TZOFFSETTO:+0200
TZNAME:CEST
DTSTART:20250330T010000
END:DAYLIGHT
BEGIN:STANDARD
TZOFFSETFROM:+0200
TZOFFSETTO:+0100
TZNAME:CET
DTSTART:20251026T010000
END:STANDARD
BEGIN:DAYLIGHT
TZOFFSETFROM:+0100
TZOFFSETTO:+0200
TZNAME:CEST
DTSTART:20260329T010000
END:DAYLIGHT
BEGIN:STANDARD
TZOFFSETFROM:+0200
TZOFFSETTO:+0100
TZNAME:CET
DTSTART:20261025T010000
END:STANDARD
END:VTIMEZONE
BEGIN:VEVENT
DTSTART;TZID=Europe/Madrid:20250508T083000
DTEND;TZID=Europe/Madrid:20250508T140000
DTSTAMP:20260420T100841
CREATED:20250408T084646Z
LAST-MODIFIED:20250505T084330Z
UID:10000052-1746693000-1746712800@www.fundaciohospitalariesbarcelona.org
SUMMARY:II Jornada Enfermeras Hospitalarias
DESCRIPTION:En la Fundació Hospitalàries Barcelona\, ​​los valores institucionales están estrechamente ligados a la labor que desarrolla el personal de enfermería. Con el objetivo de dar visibilidad a esta cuestión y en el marco de la celebración del Día Internacional de la Enfermera\, organizamos\, el próximo 8 de mayo\, la segunda edición de las Jornadas Enfermeras Hospitalarias ‘Cuidando con valores’\, centradas\, este año\, en la Humanización en la atención. \nPodéis acceder al programa aquí\, donde encontraréis el formulario de inscripción.
URL:https://www.fundaciohospitalariesbarcelona.org/esdeveniment/ii-jornada-enfermeras-hospitalarias/
LOCATION:Sala d’actes Fundació Hospitalàries Barcelona\, Pg. de la Vall d'Hebron\, 107\, Barcelona\, Barcelona\, 08035
END:VEVENT
END:VCALENDAR