BEGIN:VCALENDAR
VERSION:2.0
PRODID:-//Fundació Hospitalàries Barcelona - ECPv6.15.15//NONSGML v1.0//EN
CALSCALE:GREGORIAN
METHOD:PUBLISH
X-ORIGINAL-URL:https://www.fundaciohospitalariesbarcelona.org
X-WR-CALDESC:Eventos para Fundació Hospitalàries Barcelona
REFRESH-INTERVAL;VALUE=DURATION:PT1H
X-Robots-Tag:noindex
X-PUBLISHED-TTL:PT1H
BEGIN:VTIMEZONE
TZID:Europe/Madrid
BEGIN:DAYLIGHT
TZOFFSETFROM:+0100
TZOFFSETTO:+0200
TZNAME:CEST
DTSTART:20240331T010000
END:DAYLIGHT
BEGIN:STANDARD
TZOFFSETFROM:+0200
TZOFFSETTO:+0100
TZNAME:CET
DTSTART:20241027T010000
END:STANDARD
BEGIN:DAYLIGHT
TZOFFSETFROM:+0100
TZOFFSETTO:+0200
TZNAME:CEST
DTSTART:20250330T010000
END:DAYLIGHT
BEGIN:STANDARD
TZOFFSETFROM:+0200
TZOFFSETTO:+0100
TZNAME:CET
DTSTART:20251026T010000
END:STANDARD
BEGIN:DAYLIGHT
TZOFFSETFROM:+0100
TZOFFSETTO:+0200
TZNAME:CEST
DTSTART:20260329T010000
END:DAYLIGHT
BEGIN:STANDARD
TZOFFSETFROM:+0200
TZOFFSETTO:+0100
TZNAME:CET
DTSTART:20261025T010000
END:STANDARD
END:VTIMEZONE
BEGIN:VEVENT
DTSTART;TZID=Europe/Madrid:20250509T083000
DTEND;TZID=Europe/Madrid:20250509T140000
DTSTAMP:20260420T101031
CREATED:20250401T111853Z
LAST-MODIFIED:20250504T101758Z
UID:10000059-1746779400-1746799200@www.fundaciohospitalariesbarcelona.org
SUMMARY:II Jornada de Salud Mental infantojuvenil “Perdidas en el Espectro: pensar la diversidad”
DESCRIPTION:En los últimos cuarenta años\, la prevalencia del Trastorno del Espectro Autista (TEA) ha aumentado significativamente\, generando un debate sobre sus límites diagnósticos y su relación con la normalidad. La agrupación de los trastornos en un único espectro\, según el DSM V\, ha permitido captar su diversidad\, pero también ha dado lugar a diagnósticos con poca afectación funcional y a la dilución de otros perfiles clínicos. \nEn el ámbito social\, la falta de apoyo institucional para casos leves y el impacto de los protocolos diagnósticos han complicado la situación. Con esta jornada organizada desde el área infantojuvenil de la Fundació Hospitalàries\, queremos reflexionar y debatir sobre la cuestión del espectro autista en la actualidad\, con la idea de añadir cromatismo a la diversidad. \nPodéis acceder al programa y realizar la inscripción.
URL:https://www.fundaciohospitalariesbarcelona.org/esdeveniment/ii-jornada-de-salud-mental-infantojuvenil-perdidas-en-el-espectro-pensar-la-diversidad/
LOCATION:Centre Cultural de Martorell\, Plaça de les Cultures Martorell\, 08670 Espanya\, Martorell\, Barcelona\, 08670\, Spain
END:VEVENT
END:VCALENDAR