BEGIN:VCALENDAR
VERSION:2.0
PRODID:-//Fundació Hospitalàries Barcelona - ECPv6.15.15//NONSGML v1.0//EN
CALSCALE:GREGORIAN
METHOD:PUBLISH
X-WR-CALNAME:Fundació Hospitalàries Barcelona
X-ORIGINAL-URL:https://www.fundaciohospitalariesbarcelona.org
X-WR-CALDESC:Eventos para Fundació Hospitalàries Barcelona
REFRESH-INTERVAL;VALUE=DURATION:PT1H
X-Robots-Tag:noindex
X-PUBLISHED-TTL:PT1H
BEGIN:VTIMEZONE
TZID:Europe/Madrid
BEGIN:DAYLIGHT
TZOFFSETFROM:+0100
TZOFFSETTO:+0200
TZNAME:CEST
DTSTART:20240331T010000
END:DAYLIGHT
BEGIN:STANDARD
TZOFFSETFROM:+0200
TZOFFSETTO:+0100
TZNAME:CET
DTSTART:20241027T010000
END:STANDARD
BEGIN:DAYLIGHT
TZOFFSETFROM:+0100
TZOFFSETTO:+0200
TZNAME:CEST
DTSTART:20250330T010000
END:DAYLIGHT
BEGIN:STANDARD
TZOFFSETFROM:+0200
TZOFFSETTO:+0100
TZNAME:CET
DTSTART:20251026T010000
END:STANDARD
BEGIN:DAYLIGHT
TZOFFSETFROM:+0100
TZOFFSETTO:+0200
TZNAME:CEST
DTSTART:20260329T010000
END:DAYLIGHT
BEGIN:STANDARD
TZOFFSETFROM:+0200
TZOFFSETTO:+0100
TZNAME:CET
DTSTART:20261025T010000
END:STANDARD
END:VTIMEZONE
BEGIN:VEVENT
DTSTART;TZID=Europe/Madrid:20250529T080000
DTEND;TZID=Europe/Madrid:20250529T090000
DTSTAMP:20260420T100841
CREATED:20250410T130618Z
LAST-MODIFIED:20250411T082922Z
UID:10000056-1748505600-1748509200@www.fundaciohospitalariesbarcelona.org
SUMMARY:Sesión general "Plan de Innovación en Fundació Hospitalàries"
DESCRIPTION:El 29 de mayo\, de 8 a 9 h en el salón de actos del Hospital\, tendrá lugar la sesión general «Plan de Innovación en Fundació Hospitalàries»\, a cargo de Fernando Campaña\, referente de Docencia e Innovación del Área de Enfermería de la Fundació Hospitalàries Barcelona. \nPuede acceder al programa de sesiones generales 2025.
URL:https://www.fundaciohospitalariesbarcelona.org/esdeveniment/sesion-general-plan-de-innovacion-en-fundacio-hospitalaries/
LOCATION:Sala d’actes Fundació Hospitalàries Barcelona\, Pg. de la Vall d'Hebron\, 107\, Barcelona\, Barcelona\, 08035
END:VEVENT
END:VCALENDAR