BEGIN:VCALENDAR
VERSION:2.0
PRODID:-//Fundació Hospitalàries Barcelona - ECPv6.15.15//NONSGML v1.0//EN
CALSCALE:GREGORIAN
METHOD:PUBLISH
X-ORIGINAL-URL:https://www.fundaciohospitalariesbarcelona.org
X-WR-CALDESC:Eventos para Fundació Hospitalàries Barcelona
REFRESH-INTERVAL;VALUE=DURATION:PT1H
X-Robots-Tag:noindex
X-PUBLISHED-TTL:PT1H
BEGIN:VTIMEZONE
TZID:Europe/Madrid
BEGIN:DAYLIGHT
TZOFFSETFROM:+0100
TZOFFSETTO:+0200
TZNAME:CEST
DTSTART:20240331T010000
END:DAYLIGHT
BEGIN:STANDARD
TZOFFSETFROM:+0200
TZOFFSETTO:+0100
TZNAME:CET
DTSTART:20241027T010000
END:STANDARD
BEGIN:DAYLIGHT
TZOFFSETFROM:+0100
TZOFFSETTO:+0200
TZNAME:CEST
DTSTART:20250330T010000
END:DAYLIGHT
BEGIN:STANDARD
TZOFFSETFROM:+0200
TZOFFSETTO:+0100
TZNAME:CET
DTSTART:20251026T010000
END:STANDARD
BEGIN:DAYLIGHT
TZOFFSETFROM:+0100
TZOFFSETTO:+0200
TZNAME:CEST
DTSTART:20260329T010000
END:DAYLIGHT
BEGIN:STANDARD
TZOFFSETFROM:+0200
TZOFFSETTO:+0100
TZNAME:CET
DTSTART:20261025T010000
END:STANDARD
END:VTIMEZONE
BEGIN:VEVENT
DTSTART;TZID=Europe/Madrid:20250714T120000
DTEND;TZID=Europe/Madrid:20250714T140000
DTSTAMP:20260420T125802
CREATED:20250703T150919Z
LAST-MODIFIED:20250703T150919Z
UID:10000074-1752494400-1752501600@www.fundaciohospitalariesbarcelona.org
SUMMARY:Taller de autocuidado por el Día Internacional de las TCAE
DESCRIPTION:Con motivo del Día Internacional de las TCAI\, que se conmemora el 14 de julio\, desde la Fundació Hospitalàries Barcelona\, ​​con la colaboración de ÁLTIMA y en el marco del proyecto Fem Salut!\, queremos reconocer la tarea esencial de estas profesionales\, que tienen como misión cuidar de los demás cada día. Por eso\, organizamos un taller de autocuidado el mismo día 14\, de 12 a 14 h en el salón de actos\, un espacio para cultivar la cultura del cuidar\, también hacia adentro\, y adquirir herramientas para hacerlo. \nEste taller\, que contará con una parte teórica y una parte práctica\, será impartido por Ainhoa ​​Videgain\, psicóloga experta en psicooncología y en cuidados paliativos. \nOs invitamos a participar y regalaros un rato para reconectar\, descansar y cuidarle. \nPodéis acceder al póster adjunto e inscribiros accediendo al siguiente formulario.
URL:https://www.fundaciohospitalariesbarcelona.org/esdeveniment/taller-de-autocuidado-por-el-dia-internacional-de-las-tcae/
LOCATION:Sala d’actes Fundació Hospitalàries Barcelona\, Pg. de la Vall d'Hebron\, 107\, Barcelona\, Barcelona\, 08035
END:VEVENT
END:VCALENDAR