BEGIN:VCALENDAR
VERSION:2.0
PRODID:-//Fundació Hospitalàries Barcelona - ECPv6.15.15//NONSGML v1.0//EN
CALSCALE:GREGORIAN
METHOD:PUBLISH
X-WR-CALNAME:Fundació Hospitalàries Barcelona
X-ORIGINAL-URL:https://www.fundaciohospitalariesbarcelona.org
X-WR-CALDESC:Eventos para Fundació Hospitalàries Barcelona
REFRESH-INTERVAL;VALUE=DURATION:PT1H
X-Robots-Tag:noindex
X-PUBLISHED-TTL:PT1H
BEGIN:VTIMEZONE
TZID:Europe/Madrid
BEGIN:DAYLIGHT
TZOFFSETFROM:+0100
TZOFFSETTO:+0200
TZNAME:CEST
DTSTART:20250330T010000
END:DAYLIGHT
BEGIN:STANDARD
TZOFFSETFROM:+0200
TZOFFSETTO:+0100
TZNAME:CET
DTSTART:20251026T010000
END:STANDARD
BEGIN:DAYLIGHT
TZOFFSETFROM:+0100
TZOFFSETTO:+0200
TZNAME:CEST
DTSTART:20260329T010000
END:DAYLIGHT
BEGIN:STANDARD
TZOFFSETFROM:+0200
TZOFFSETTO:+0100
TZNAME:CET
DTSTART:20261025T010000
END:STANDARD
BEGIN:DAYLIGHT
TZOFFSETFROM:+0100
TZOFFSETTO:+0200
TZNAME:CEST
DTSTART:20270328T010000
END:DAYLIGHT
BEGIN:STANDARD
TZOFFSETFROM:+0200
TZOFFSETTO:+0100
TZNAME:CET
DTSTART:20271031T010000
END:STANDARD
END:VTIMEZONE
BEGIN:VEVENT
DTSTART;TZID=Europe/Madrid:20260129T080000
DTEND;TZID=Europe/Madrid:20261217T090000
DTSTAMP:20260421T093221
CREATED:20260126T111732Z
LAST-MODIFIED:20260126T111732Z
UID:10000090-1769673600-1797498000@www.fundaciohospitalariesbarcelona.org
SUMMARY:Programa Sesiones Generales 2026
DESCRIPTION:Las Sesiones Generales 2026 tendrán lugar del 29 de enero al 17 de diciembre de 2026 en la Sala de Actos de la Fundació Hospitalàries Barcelona. Se llevarán a cabo en el horario habitual\, de 8 a 9 h\, y tratarán temas de actualidad relacionados con la práctica asistencial\, la investigación\, la innovación y la gestión\, con la participación de profesionales internos y expertos externos.\n\nPuede consultar el programa completo y el calendario en el documento adjunto.
URL:https://www.fundaciohospitalariesbarcelona.org/esdeveniment/programa-sesiones-generales-2026/
LOCATION:Sala d’actes Fundació Hospitalàries Barcelona\, Pg. de la Vall d'Hebron\, 107\, Barcelona\, Barcelona\, 08035
END:VEVENT
BEGIN:VEVENT
DTSTART;TZID=Europe/Madrid:20260416T083000
DTEND;TZID=Europe/Madrid:20260416T140000
DTSTAMP:20260421T093221
CREATED:20260212T114949Z
LAST-MODIFIED:20260412T173018Z
UID:10000098-1776328200-1776348000@www.fundaciohospitalariesbarcelona.org
SUMMARY:VI Jornadas Catalanas de Hospitales de Dia de Adultos en Salud Mental
DESCRIPTION:El próximo jueves 16 de abril\, el auditorio de la Fundación Hospitalarias Barcelona acogerá las VI VI Jornadas Catalanas de Hospitales de Día de Adultos en Salud Mental.En esta edición\, las jornadas tienen por objetivo reflexionar y compartir conocimiento en torno al abordaje del Trastorno de la Conducta Alimentaria (TCA) y el Trastorno del Espectro Autista (TEA); dos perfiles diagnósticos que\, con frecuencia\, generan mayores dificultades en el contexto del hospital de día general. \nEstas dificultades no sólo se relacionan con la intensidad de la sintomatología\, sino también con aspectos como la adherencia al tratamiento\, la regulación emocional\, la convivencia terapéutica en grupo y la coordinación con otros dispositivos de la red asistencial. \nPodéis acceder al programa y al formulario de inscripción.
URL:https://www.fundaciohospitalariesbarcelona.org/esdeveniment/vi-jornadas-catalanas-de-hospitales-de-dia-de-adultos-en-salud-mental/
LOCATION:Sala d’actes Fundació Hospitalàries Barcelona\, Pg. de la Vall d'Hebron\, 107\, Barcelona\, Barcelona\, 08035
END:VEVENT
END:VCALENDAR