BEGIN:VCALENDAR
VERSION:2.0
PRODID:-//Fundació Hospitalàries Barcelona - ECPv6.15.15//NONSGML v1.0//EN
CALSCALE:GREGORIAN
METHOD:PUBLISH
X-WR-CALNAME:Fundació Hospitalàries Barcelona
X-ORIGINAL-URL:https://www.fundaciohospitalariesbarcelona.org
X-WR-CALDESC:Eventos para Fundació Hospitalàries Barcelona
REFRESH-INTERVAL;VALUE=DURATION:PT1H
X-Robots-Tag:noindex
X-PUBLISHED-TTL:PT1H
BEGIN:VTIMEZONE
TZID:Europe/Madrid
BEGIN:DAYLIGHT
TZOFFSETFROM:+0100
TZOFFSETTO:+0200
TZNAME:CEST
DTSTART:20230326T010000
END:DAYLIGHT
BEGIN:STANDARD
TZOFFSETFROM:+0200
TZOFFSETTO:+0100
TZNAME:CET
DTSTART:20231029T010000
END:STANDARD
BEGIN:DAYLIGHT
TZOFFSETFROM:+0100
TZOFFSETTO:+0200
TZNAME:CEST
DTSTART:20240331T010000
END:DAYLIGHT
BEGIN:STANDARD
TZOFFSETFROM:+0200
TZOFFSETTO:+0100
TZNAME:CET
DTSTART:20241027T010000
END:STANDARD
BEGIN:DAYLIGHT
TZOFFSETFROM:+0100
TZOFFSETTO:+0200
TZNAME:CEST
DTSTART:20250330T010000
END:DAYLIGHT
BEGIN:STANDARD
TZOFFSETFROM:+0200
TZOFFSETTO:+0100
TZNAME:CET
DTSTART:20251026T010000
END:STANDARD
END:VTIMEZONE
BEGIN:VEVENT
DTSTART;TZID=Europe/Madrid:20240725T080000
DTEND;TZID=Europe/Madrid:20240725T090000
DTSTAMP:20260420T025050
CREATED:20240719T094153Z
LAST-MODIFIED:20240719T094153Z
UID:10000009-1721894400-1721898000@www.fundaciohospitalariesbarcelona.org
SUMMARY:Sesión general sobre la Unidad de Desintoxicación
DESCRIPTION:El 25 de julio\, de 8 a 9 h en el salón de actos del Hospital\, tendrá lugar la sesión general Unidad de Desintoxicación dentro del Hospital San Rafael\, UIPA-2\, y la impartirá la doctora Paula Lucía Gamboa\, del Servicio de Psiquiatría del Hospital San Rafael. \nPuede acceder al programa de sesiones generales 2024 en el documento adjunto.
URL:https://www.fundaciohospitalariesbarcelona.org/esdeveniment/sesion-general-sobre-la-unidad-de-desintoxicacion/
LOCATION:Sala d’actes Hospital Sant Rafael\, Pg. de la Vall d'Hebron\, 107\, Barcelona\, Barcelona\, 08035\, Espanya
END:VEVENT
END:VCALENDAR