BEGIN:VCALENDAR
VERSION:2.0
PRODID:-//Fundació Hospitalàries Barcelona - ECPv6.15.15//NONSGML v1.0//EN
CALSCALE:GREGORIAN
METHOD:PUBLISH
X-ORIGINAL-URL:https://www.fundaciohospitalariesbarcelona.org
X-WR-CALDESC:Eventos para Fundació Hospitalàries Barcelona
REFRESH-INTERVAL;VALUE=DURATION:PT1H
X-Robots-Tag:noindex
X-PUBLISHED-TTL:PT1H
BEGIN:VTIMEZONE
TZID:Europe/Madrid
BEGIN:DAYLIGHT
TZOFFSETFROM:+0100
TZOFFSETTO:+0200
TZNAME:CEST
DTSTART:20250330T010000
END:DAYLIGHT
BEGIN:STANDARD
TZOFFSETFROM:+0200
TZOFFSETTO:+0100
TZNAME:CET
DTSTART:20251026T010000
END:STANDARD
BEGIN:DAYLIGHT
TZOFFSETFROM:+0100
TZOFFSETTO:+0200
TZNAME:CEST
DTSTART:20260329T010000
END:DAYLIGHT
BEGIN:STANDARD
TZOFFSETFROM:+0200
TZOFFSETTO:+0100
TZNAME:CET
DTSTART:20261025T010000
END:STANDARD
BEGIN:DAYLIGHT
TZOFFSETFROM:+0100
TZOFFSETTO:+0200
TZNAME:CEST
DTSTART:20270328T010000
END:DAYLIGHT
BEGIN:STANDARD
TZOFFSETFROM:+0200
TZOFFSETTO:+0100
TZNAME:CET
DTSTART:20271031T010000
END:STANDARD
END:VTIMEZONE
BEGIN:VEVENT
DTSTART;TZID=Europe/Madrid:20260425T090000
DTEND;TZID=Europe/Madrid:20260425T114500
DTSTAMP:20260420T085549
CREATED:20260320T071048Z
LAST-MODIFIED:20260320T071304Z
UID:10000108-1777107600-1777117500@www.fundaciohospitalariesbarcelona.org
SUMMARY:Nueva edición del Memorial Charo de Marcha Nórdica
DESCRIPTION:El próximo 25 de abril tendrá lugar una nueva edición del Memorial Charo de Marcha Nórdica. Puede acceder al CARTEL\, en HORARIO y al HOJA DE INSCRIPCIÓN\, que debe enviarse a ana.campos@fundacionhospitalarias.org o llevarlo en mano al Servicio de Rehabilitación de la Fundació Hospitalàries Barcelona.\n\nLa inscripción a la salida tiene un coste de 10€ y el alquiler de bastones\, de 2€. El pago debe realizarse en efectivo el mismo día de la salida. El dinero recaudado irá destinado íntegramente a un proyecto solidario de la Fundación Benito Menni del hospital.
URL:https://www.fundaciohospitalariesbarcelona.org/esdeveniment/nueva-edicion-del-memorial-charo-de-marcha-nordica/
LOCATION:Barcelona
END:VEVENT
BEGIN:VEVENT
DTSTART;TZID=Europe/Madrid:20260430T080000
DTEND;TZID=Europe/Madrid:20260430T090000
DTSTAMP:20260420T085549
CREATED:20260302T095504Z
LAST-MODIFIED:20260302T095504Z
UID:10000106-1777536000-1777539600@www.fundaciohospitalariesbarcelona.org
SUMMARY:Sesión general "Liderazgo humanizado"
DESCRIPTION:El 30 de abril\, de 8 a 9 h\, en el salón de actos del Hospital\, tendrá lugar la sesión general con el título de «Liderazgo humanizado»\, a cargo de Albert Cortés\, enfermero. Asociación Enfermería Comunitaria – Proyecto HUGES \nPodéis consultar el programa de sesiones generales 2026
URL:https://www.fundaciohospitalariesbarcelona.org/esdeveniment/sesion-general-liderazgo-humanizado/
LOCATION:Sala d’actes Fundació Hospitalàries Barcelona\, Pg. de la Vall d'Hebron\, 107\, Barcelona\, Barcelona\, 08035
END:VEVENT
BEGIN:VEVENT
DTSTART;TZID=Europe/Madrid:20260507T083000
DTEND;TZID=Europe/Madrid:20260507T133000
DTSTAMP:20260420T085549
CREATED:20260420T053712Z
LAST-MODIFIED:20260420T053712Z
UID:10000110-1778142600-1778160600@www.fundaciohospitalariesbarcelona.org
SUMMARY:III Jornada de Enfermeras Hospitalarias "Cuidando con valores". Conciencia histórica
DESCRIPTION:La III Jornada de Enfermeras Hospitalarias “Cuidando con valores” tendrá lugar el próximo 7 de mayo en el salón de actos de la Fundació Hospitalàries Barcelona\, ​​en el marco de la celebración del Día Internacional de la Enfermera. \nEsta tercera edición de la jornada pone el foco en la conciencia histórica\, como elemento clave para entender el presente y construir el futuro de los cuidados. \nLa III Jornada de Enfermeras Hospitalarias «Cuidando con valores» será una oportunidad para poner en valor el liderazgo\, la innovación y el compromiso de las enfermeras que impulsan la calidad asistencial cada día. \nPuede acceder al programa preliminar de la jornada\, donde también encontrará el QR con el enlace para formalizar la inscripción.
URL:https://www.fundaciohospitalariesbarcelona.org/esdeveniment/iii-jornada-de-enfermeras-hospitalarias-cuidando-con-valores-conciencia-historica/
LOCATION:Sala d’actes Fundació Hospitalàries Barcelona\, Pg. de la Vall d'Hebron\, 107\, Barcelona\, Barcelona\, 08035
END:VEVENT
BEGIN:VEVENT
DTSTART;TZID=Europe/Madrid:20260516T090000
DTEND;TZID=Europe/Madrid:20260516T120000
DTSTAMP:20260420T085549
CREATED:20260203T203208Z
LAST-MODIFIED:20260203T211502Z
UID:10000096-1778922000-1778932800@www.fundaciohospitalariesbarcelona.org
SUMMARY:25ª edición del curso 'Bases teóricas de la práctica clínica de la marcha nórdica en el ámbito sanitario'
DESCRIPTION:La 25ª edición del curso ‘Bases teóricas de la práctica clínica de la marcha nórdica en el ámbito sanitario’\, organizado por el equipo de marcha nórdica de Fundació Hospitalàries Barcelona\, ​​antiguo Hospital Sant Rafael\, se iniciará el próximo mes de mayo.\n\nEste curso\, que se dirige a profesionales del ámbito sanitario (licenciados\, diplomados o graduados)\, se desarrollará en dos módulos:\n· I módulo: sábados 16 y 30 de Mayo’26 de 9h a 12h (6 horas). El contenido es práctico.\n· II módulo: viernes 12 y sábado 13 de Junio’26. Viernes y Sábado de 9 a 18:30 h (16 horas). El contenido es práctico y teórico.\nEl curso\, que está acreditado por el Consejo Catalán de Formación Continua de las Profesiones Sanitarias\, tiene un total de 26 horas lectivas y su precio es de 350 €.\n\n100% de la asistencia para obtener el título.\n\nLa fecha límite de inscripción es el próximo 17 de abril de 2026. A partir de esta fecha\, no se reembolsará el Curso en caso de baja. Se adjunta la hoja de inscripción que se debe enviar a marxa.nordica@fundacionhospitalarias.org.\n\nPara más información puede llamar al Servicio de Rehabilitación 93 211 25 08 – extensión 10044\, por las mañanas de 9 a 14 h y las tardes de 15 a 20 h o bien a marxa.nordica@fundacionhospitalarias.org.\n\nPodéis acceder al póster del curso AQUÍ.
URL:https://www.fundaciohospitalariesbarcelona.org/esdeveniment/25a-edicion-del-curso-bases-teoricas-de-la-practica-clinica-de-la-marcha-nordica-en-el-ambito-sanitario/
LOCATION:Fundació Hospitalàries Barcelona\, Pg. de la Vall d'Hebron\, 107-117\, Barcelona
END:VEVENT
END:VCALENDAR