BEGIN:VCALENDAR
VERSION:2.0
PRODID:-//Fundació Hospitalàries Barcelona - ECPv6.15.15//NONSGML v1.0//EN
CALSCALE:GREGORIAN
METHOD:PUBLISH
X-WR-CALNAME:Fundació Hospitalàries Barcelona
X-ORIGINAL-URL:https://www.fundaciohospitalariesbarcelona.org
X-WR-CALDESC:Eventos para Fundació Hospitalàries Barcelona
REFRESH-INTERVAL;VALUE=DURATION:PT1H
X-Robots-Tag:noindex
X-PUBLISHED-TTL:PT1H
BEGIN:VTIMEZONE
TZID:Europe/Madrid
BEGIN:DAYLIGHT
TZOFFSETFROM:+0100
TZOFFSETTO:+0200
TZNAME:CEST
DTSTART:20240331T010000
END:DAYLIGHT
BEGIN:STANDARD
TZOFFSETFROM:+0200
TZOFFSETTO:+0100
TZNAME:CET
DTSTART:20241027T010000
END:STANDARD
BEGIN:DAYLIGHT
TZOFFSETFROM:+0100
TZOFFSETTO:+0200
TZNAME:CEST
DTSTART:20250330T010000
END:DAYLIGHT
BEGIN:STANDARD
TZOFFSETFROM:+0200
TZOFFSETTO:+0100
TZNAME:CET
DTSTART:20251026T010000
END:STANDARD
BEGIN:DAYLIGHT
TZOFFSETFROM:+0100
TZOFFSETTO:+0200
TZNAME:CEST
DTSTART:20260329T010000
END:DAYLIGHT
BEGIN:STANDARD
TZOFFSETFROM:+0200
TZOFFSETTO:+0100
TZNAME:CET
DTSTART:20261025T010000
END:STANDARD
END:VTIMEZONE
BEGIN:VEVENT
DTSTART;VALUE=DATE:20250402
DTEND;VALUE=DATE:20250404
DTSTAMP:20260420T071228
CREATED:20250313T114552Z
LAST-MODIFIED:20250313T115749Z
UID:10000046-1743552000-1743724799@www.fundaciohospitalariesbarcelona.org
SUMMARY:Feria Virtual de Empleo de la UOC
DESCRIPTION:Fundació Hospitalàries Barcelona estará presente en la Feria Virtual de Empleo de la UOC.\nAccede en exclusiva a nuestras ofertas laborales y prácticas. \nEvento Online y en directo.
URL:https://www.fundaciohospitalariesbarcelona.org/esdeveniment/feria-virtual-de-empleo-de-la-uoc/
END:VEVENT
BEGIN:VEVENT
DTSTART;TZID=Europe/Madrid:20250403T180000
DTEND;TZID=Europe/Madrid:20250403T193000
DTSTAMP:20260420T071228
CREATED:20250327T070020Z
LAST-MODIFIED:20250327T070020Z
UID:10000048-1743703200-1743708600@www.fundaciohospitalariesbarcelona.org
SUMMARY:Acto de presentación de la Cátedra de Psicogeriatría
DESCRIPTION:El 3 de abril\, a partir de las 18 h\, en el salón de actos de la Fundació Hospitalàries Barcelona\, ​​tendrá lugar el acto de presentación de la Cátedra de Psicogeriatría. \nPodéis acceder al programa aquí.
URL:https://www.fundaciohospitalariesbarcelona.org/esdeveniment/acto-de-presentacion-de-la-catedra-de-psicogeriatria/
LOCATION:Sala d’actes Fundació Hospitalàries Barcelona\, Pg. de la Vall d'Hebron\, 107\, Barcelona\, Barcelona\, 08035
END:VEVENT
BEGIN:VEVENT
DTSTART;TZID=Europe/Madrid:20250424T080000
DTEND;TZID=Europe/Madrid:20250424T090000
DTSTAMP:20260420T071228
CREATED:20250410T130437Z
LAST-MODIFIED:20250411T082914Z
UID:10000054-1745481600-1745485200@www.fundaciohospitalariesbarcelona.org
SUMMARY:Sesión general "Sistemas de Información en Salud\, presente y futuro en nuestro centro"
DESCRIPTION:El 24 de abril\, de 8 a 9 h en el salón de actos del Hospital\, tendrá lugar la sesión general «Sistemas de Información en Salud\, presente y futuro en nuestro centro»\, la cual será impartida por Jusèp Rifà\, jefe de Organización o Sistemas de Información de la Fundació Hospitalàries Barcelona. \nPuede acceder al programa de sesiones generales 2025.
URL:https://www.fundaciohospitalariesbarcelona.org/esdeveniment/sesion-general-sistemas-de-informacion-en-salud-presente-y-futuro-en-nuestro-centro/
LOCATION:Sala d’actes Fundació Hospitalàries Barcelona\, Pg. de la Vall d'Hebron\, 107\, Barcelona\, Barcelona\, 08035
END:VEVENT
BEGIN:VEVENT
DTSTART;TZID=Europe/Madrid:20250425T112000
DTEND;TZID=Europe/Madrid:20250425T133000
DTSTAMP:20260420T071228
CREATED:20250417T141031Z
LAST-MODIFIED:20250417T141141Z
UID:10000058-1745580000-1745587800@www.fundaciohospitalariesbarcelona.org
SUMMARY:Celebración de la Festividad de San Benito Menni
DESCRIPTION:El 25 de abril\, la Fundació Hospitalàries Barcelona acogerá la celebración de la Festividad de San Benito Menni\, patrón de nuestro Hospital\, cuyo acto contará con la presencia destacada de la doctora Ángela López Tarrida\, coordinadora del Departamento de Ética de la Unidad Territorial II de la Orden Hospitalaria de San Juan de Dios. Puede acceder al programa aquí.
URL:https://www.fundaciohospitalariesbarcelona.org/esdeveniment/celebracion-de-la-festividad-de-san-benito-menni/
LOCATION:Fundació Hospitalàries Barcelona\, Pg. de la Vall d'Hebron\, 107-117\, Barcelona
END:VEVENT
BEGIN:VEVENT
DTSTART;TZID=Europe/Madrid:20250426T090000
DTEND;TZID=Europe/Madrid:20250426T103000
DTSTAMP:20260420T071228
CREATED:20250401T115150Z
LAST-MODIFIED:20250401T115500Z
UID:10000050-1745658000-1745663400@www.fundaciohospitalariesbarcelona.org
SUMMARY:Memorial Charo
DESCRIPTION:El próximo 26 de abril tendrá lugar una nueva edición del Memorial Charo de Marcha Nórdica. Habrá una única salida (nivel fácil)\, de 1 hora y 30 min. El lugar de encuentro será la principal entrada de la Fundación Hospitalarias Barcelona y la hora de salida\, las 9 h. Puede acceder al PÓSTER y a la HOJA INFORMATIVA del memorial.\n\nLa inscripción es gratuita. Es imprescindible llenar el HOJA DE INSCRIPCIÓN. La fecha límite para inscribirse es el 22 de abril. Si necesitan bastones deberá abonar 2€ (pago en efectivo y justo). Asimismo\, habrá venta de artículos\, como camisetas\, guantes o buff.
URL:https://www.fundaciohospitalariesbarcelona.org/esdeveniment/memorial-charo/
END:VEVENT
END:VCALENDAR