BEGIN:VCALENDAR
VERSION:2.0
PRODID:-//Fundació Hospitalàries Barcelona - ECPv6.15.15//NONSGML v1.0//EN
CALSCALE:GREGORIAN
METHOD:PUBLISH
X-ORIGINAL-URL:https://www.fundaciohospitalariesbarcelona.org
X-WR-CALDESC:Eventos para Fundació Hospitalàries Barcelona
REFRESH-INTERVAL;VALUE=DURATION:PT1H
X-Robots-Tag:noindex
X-PUBLISHED-TTL:PT1H
BEGIN:VTIMEZONE
TZID:Europe/Madrid
BEGIN:DAYLIGHT
TZOFFSETFROM:+0100
TZOFFSETTO:+0200
TZNAME:CEST
DTSTART:20240331T010000
END:DAYLIGHT
BEGIN:STANDARD
TZOFFSETFROM:+0200
TZOFFSETTO:+0100
TZNAME:CET
DTSTART:20241027T010000
END:STANDARD
BEGIN:DAYLIGHT
TZOFFSETFROM:+0100
TZOFFSETTO:+0200
TZNAME:CEST
DTSTART:20250330T010000
END:DAYLIGHT
BEGIN:STANDARD
TZOFFSETFROM:+0200
TZOFFSETTO:+0100
TZNAME:CET
DTSTART:20251026T010000
END:STANDARD
BEGIN:DAYLIGHT
TZOFFSETFROM:+0100
TZOFFSETTO:+0200
TZNAME:CEST
DTSTART:20260329T010000
END:DAYLIGHT
BEGIN:STANDARD
TZOFFSETFROM:+0200
TZOFFSETTO:+0100
TZNAME:CET
DTSTART:20261025T010000
END:STANDARD
END:VTIMEZONE
BEGIN:VEVENT
DTSTART;TZID=Europe/Madrid:20250626T080000
DTEND;TZID=Europe/Madrid:20250626T090000
DTSTAMP:20260420T101105
CREATED:20250701T062039Z
LAST-MODIFIED:20250701T062209Z
UID:10000062-1750924800-1750928400@www.fundaciohospitalariesbarcelona.org
SUMMARY:Sesión general “Novedades en el tratamento de llagas venosas"
DESCRIPTION:La sesión general del mes de junio\, con el título de ‘Novedades en el tratamiento de llagas venosas’\, tendrá lugar el próximo 26 de junio\, de 8 a 9h en el salón de actos del Hospital\, y será impartida por Miguel Carceller y Carlos E. Marrero\, del Servicio de Cirugía Vascular. \nPuede acceder al programa de sesiones generales 2025.
URL:https://www.fundaciohospitalariesbarcelona.org/esdeveniment/sesion-general-novedades-en-el-tratamento-de-llagas-venosas/
LOCATION:Barcelona
END:VEVENT
END:VCALENDAR