BEGIN:VCALENDAR
VERSION:2.0
PRODID:-//Fundació Hospitalàries Barcelona - ECPv6.15.15//NONSGML v1.0//EN
CALSCALE:GREGORIAN
METHOD:PUBLISH
X-WR-CALNAME:Fundació Hospitalàries Barcelona
X-ORIGINAL-URL:https://www.fundaciohospitalariesbarcelona.org
X-WR-CALDESC:Eventos para Fundació Hospitalàries Barcelona
REFRESH-INTERVAL;VALUE=DURATION:PT1H
X-Robots-Tag:noindex
X-PUBLISHED-TTL:PT1H
BEGIN:VTIMEZONE
TZID:Europe/Madrid
BEGIN:DAYLIGHT
TZOFFSETFROM:+0100
TZOFFSETTO:+0200
TZNAME:CEST
DTSTART:20240331T010000
END:DAYLIGHT
BEGIN:STANDARD
TZOFFSETFROM:+0200
TZOFFSETTO:+0100
TZNAME:CET
DTSTART:20241027T010000
END:STANDARD
BEGIN:DAYLIGHT
TZOFFSETFROM:+0100
TZOFFSETTO:+0200
TZNAME:CEST
DTSTART:20250330T010000
END:DAYLIGHT
BEGIN:STANDARD
TZOFFSETFROM:+0200
TZOFFSETTO:+0100
TZNAME:CET
DTSTART:20251026T010000
END:STANDARD
BEGIN:DAYLIGHT
TZOFFSETFROM:+0100
TZOFFSETTO:+0200
TZNAME:CEST
DTSTART:20260329T010000
END:DAYLIGHT
BEGIN:STANDARD
TZOFFSETFROM:+0200
TZOFFSETTO:+0100
TZNAME:CET
DTSTART:20261025T010000
END:STANDARD
END:VTIMEZONE
BEGIN:VEVENT
DTSTART;TZID=Europe/Madrid:20250916T090000
DTEND;TZID=Europe/Madrid:20250916T140000
DTSTAMP:20260420T160713
CREATED:20250903T130208Z
LAST-MODIFIED:20250903T130245Z
UID:10000082-1758013200-1758031200@www.fundaciohospitalariesbarcelona.org
SUMMARY:III Seminario de bioética
DESCRIPTION:La Fundació Hospitalàries Barcelona organiza\, el próximo 16 de septiembre\, la 3a edición del Seminario de Bioética. Este curso\, dirigido a los profesionales del Hospital\, se desarrollará de 9 a 14 h en la biblioteca del Centro. \nEl seminario será impartido por el nuevo presidente del Comité de Ética Asistencial (CEA) de la Fundació Hospitalàries Barcelona\, ​​el doctor Vicente Jesús García Gil\, y por el doctor Víctor Barrau y por la enfermera Gemma Calvet\, vocales del CEA. Puede ampliar la información aquí.
URL:https://www.fundaciohospitalariesbarcelona.org/esdeveniment/iii-seminario-de-bioetica/
LOCATION:Biblioteca Hospital Sant Rafael\, Pg. de la Vall d'Hebron\, 107-117\, Barcelona\, Barcelona\, 08011
END:VEVENT
BEGIN:VEVENT
DTSTART;TZID=Europe/Madrid:20250925T080000
DTEND;TZID=Europe/Madrid:20250925T090000
DTSTAMP:20260420T160713
CREATED:20250701T064600Z
LAST-MODIFIED:20250701T064600Z
UID:10000066-1758787200-1758790800@www.fundaciohospitalariesbarcelona.org
SUMMARY:Sesión general "Trastorno de la Conducta Alimentaria"
DESCRIPTION:El 25 de septiembre\, de 8 a 9 h en el salón de actos del Hospital\, tendrá lugar la sesión general ‘Trastorno de la Conducta Alimentaria’\, a cargo de Juan Carlos Acosta\, enfermero del CSMIJ de la Fundación Hospitalarias Barcelona.\n\nPuede acceder al programa de sesiones generales 2025.
URL:https://www.fundaciohospitalariesbarcelona.org/esdeveniment/sesion-general-trastorno-de-la-conducta-alimentaria/
LOCATION:Sala d’actes Fundació Hospitalàries Barcelona\, Pg. de la Vall d'Hebron\, 107\, Barcelona\, Barcelona\, 08035
END:VEVENT
BEGIN:VEVENT
DTSTART;TZID=Europe/Madrid:20250925T153000
DTEND;TZID=Europe/Madrid:20250925T170000
DTSTAMP:20260420T160713
CREATED:20250725T090108Z
LAST-MODIFIED:20250725T090108Z
UID:10000078-1758814200-1758819600@www.fundaciohospitalariesbarcelona.org
SUMMARY:8ª edición del Club de Lectura de la Fundació Hospitalàries Barcelona
DESCRIPTION:Podéis acceder al programa de la 8ª edición del Club de Lectura de la Fundació Hospitalàries Barcelona\, una actividad formativa dirigida a los profesionales sanitarios y que está acreditada por el Consejo Catalán de Formación Continuada de las Profesiones Sanitarias. Las sesiones que tienen lugar el último jueves de cada mes de 15:30 a 17 horas en la biblioteca del Hospital. Para más información podéis escribir un correo electrónico a clubdelectura.barcelona@fundacionhospitalarias.org.
URL:https://www.fundaciohospitalariesbarcelona.org/esdeveniment/8a-edicion-del-club-de-lectura-de-la-fundacio-hospitalaries-barcelona/
LOCATION:Biblioteca Hospital Sant Rafael\, Pg. de la Vall d'Hebron\, 107-117\, Barcelona\, Barcelona\, 08011
END:VEVENT
END:VCALENDAR