BEGIN:VCALENDAR
VERSION:2.0
PRODID:-//Fundació Hospitalàries Barcelona - ECPv6.15.15//NONSGML v1.0//EN
CALSCALE:GREGORIAN
METHOD:PUBLISH
X-ORIGINAL-URL:https://www.fundaciohospitalariesbarcelona.org
X-WR-CALDESC:Eventos para Fundació Hospitalàries Barcelona
REFRESH-INTERVAL;VALUE=DURATION:PT1H
X-Robots-Tag:noindex
X-PUBLISHED-TTL:PT1H
BEGIN:VTIMEZONE
TZID:Europe/Madrid
BEGIN:DAYLIGHT
TZOFFSETFROM:+0100
TZOFFSETTO:+0200
TZNAME:CEST
DTSTART:20240331T010000
END:DAYLIGHT
BEGIN:STANDARD
TZOFFSETFROM:+0200
TZOFFSETTO:+0100
TZNAME:CET
DTSTART:20241027T010000
END:STANDARD
BEGIN:DAYLIGHT
TZOFFSETFROM:+0100
TZOFFSETTO:+0200
TZNAME:CEST
DTSTART:20250330T010000
END:DAYLIGHT
BEGIN:STANDARD
TZOFFSETFROM:+0200
TZOFFSETTO:+0100
TZNAME:CET
DTSTART:20251026T010000
END:STANDARD
BEGIN:DAYLIGHT
TZOFFSETFROM:+0100
TZOFFSETTO:+0200
TZNAME:CEST
DTSTART:20260329T010000
END:DAYLIGHT
BEGIN:STANDARD
TZOFFSETFROM:+0200
TZOFFSETTO:+0100
TZNAME:CET
DTSTART:20261025T010000
END:STANDARD
END:VTIMEZONE
BEGIN:VEVENT
DTSTART;TZID=Europe/Madrid:20251017T090000
DTEND;TZID=Europe/Madrid:20251017T140000
DTSTAMP:20260420T173827
CREATED:20250712T081555Z
LAST-MODIFIED:20251019T210927Z
UID:10000076-1760691600-1760709600@www.fundaciohospitalariesbarcelona.org
SUMMARY:I Jornada de Trabajo Social Sanitario de Fundació Hospitalàries en Cataluña
DESCRIPTION:La I Jornada de Trabajo Social Sanitario de Fundación Hospitalarias en Cataluña tendrá lugar el 17 de octubre de 2025 en el salón de actos de Fundació Hospitalàries Barcelona. Bajo el lema «Retos del trabajo social sanitario: una mirada desde la atención centrada en los derechos de la persona»\, el encuentro será un espacio para la reflexión\, de intercambio de experiencias y actualización en temas clave\, como los nuevos paradigmas en la atención social en salud mental y el proceso de acompañamiento desde el trabajo social sanitario. \nPodéis acceder al programa y hacer la inscripción aquí.
URL:https://www.fundaciohospitalariesbarcelona.org/esdeveniment/i-jornada-de-trabajo-social-sanitario-de-fundacio-hospitalaries-en-cataluna/
LOCATION:Sala d’actes Fundació Hospitalàries Barcelona\, Pg. de la Vall d'Hebron\, 107\, Barcelona\, Barcelona\, 08035
END:VEVENT
BEGIN:VEVENT
DTSTART;TZID=Europe/Madrid:20251025T083000
DTEND;TZID=Europe/Madrid:20251025T103000
DTSTAMP:20260420T173827
CREATED:20251014T084305Z
LAST-MODIFIED:20251014T084305Z
UID:10000086-1761381000-1761388200@www.fundaciohospitalariesbarcelona.org
SUMMARY:Salida de Marcha Nórdica - 25 de Octubre
DESCRIPTION:El sábado 25 de octubre tendrá lugar la primera salida de marcha nórdica después de la pausa de verano. La actividad será de nivel fácil y tendrá una duración aproximada de entre 1 h 30 min y 2 h. \nEl precio de la salida es de 8€\, y de 10€ en caso de necesitar bastones. \nPara poder participar\, hay que haber realizado previamente el Curso de Iniciación a la Marcha Nórdica con el Equipo de Marcha Nórdica de la Fundació Hospitalàries Barcelona. \nPuede inscribirse enviando un correo electrónico a marxa.nordica@fundacionhospitalarias.org con los siguientes datos: \nNOMBRE y APELLIDOS:\nTELÉFONO:\nBASTONES: Responda SI (indique altura) o NO \nCORRE ELECTRÓNICO: \nLa fecha límite de inscripción es el próximo 20 de octubre.
URL:https://www.fundaciohospitalariesbarcelona.org/esdeveniment/salida-de-marcha-nordica-25-de-octubre/
LOCATION:Fundació Hospitalàries Barcelona\, Pg. de la Vall d'Hebron\, 107-117\, Barcelona
END:VEVENT
BEGIN:VEVENT
DTSTART;TZID=Europe/Madrid:20251030T080000
DTEND;TZID=Europe/Madrid:20251030T090000
DTSTAMP:20260420T173827
CREATED:20250701T064913Z
LAST-MODIFIED:20250701T064913Z
UID:10000068-1761811200-1761814800@www.fundaciohospitalariesbarcelona.org
SUMMARY:Sesión general "Programa de Hospitalización Parcial de Salud Mental"
DESCRIPTION:El 30 de octubre\, de 8 a 9 h en el salón de actos del Hospital\, tendrá lugar la sesión general ‘Programa de Hospitalización Parcial de Salud Mental’\, a cargo de Marc González y del equipo del Servicio de la PHP de Salud Mental de la Fundació Hospitalàries Barcelona.\n\nPuede acceder al programa de sesiones generales 2025.
URL:https://www.fundaciohospitalariesbarcelona.org/esdeveniment/sesion-general-programa-de-hospitalizacion-parcial-de-salud-mental/
LOCATION:Sala d’actes Fundació Hospitalàries Barcelona\, Pg. de la Vall d'Hebron\, 107\, Barcelona\, Barcelona\, 08035
END:VEVENT
END:VCALENDAR