BEGIN:VCALENDAR
VERSION:2.0
PRODID:-//Fundació Hospitalàries Barcelona-Hospital General, antic Hospital Sant Rafael - ECPv6.15.15//NONSGML v1.0//EN
CALSCALE:GREGORIAN
METHOD:PUBLISH
X-WR-CALNAME:Fundació Hospitalàries Barcelona-Hospital General, antic Hospital Sant Rafael
X-ORIGINAL-URL:https://www.fundaciohospitalariesbarcelona.org
X-WR-CALDESC:Esdeveniments per Fundació Hospitalàries Barcelona-Hospital General, antic Hospital Sant Rafael
REFRESH-INTERVAL;VALUE=DURATION:PT1H
X-Robots-Tag:noindex
X-PUBLISHED-TTL:PT1H
BEGIN:VTIMEZONE
TZID:Europe/Madrid
BEGIN:DAYLIGHT
TZOFFSETFROM:+0100
TZOFFSETTO:+0200
TZNAME:CEST
DTSTART:20230326T010000
END:DAYLIGHT
BEGIN:STANDARD
TZOFFSETFROM:+0200
TZOFFSETTO:+0100
TZNAME:CET
DTSTART:20231029T010000
END:STANDARD
BEGIN:DAYLIGHT
TZOFFSETFROM:+0100
TZOFFSETTO:+0200
TZNAME:CEST
DTSTART:20240331T010000
END:DAYLIGHT
BEGIN:STANDARD
TZOFFSETFROM:+0200
TZOFFSETTO:+0100
TZNAME:CET
DTSTART:20241027T010000
END:STANDARD
BEGIN:DAYLIGHT
TZOFFSETFROM:+0100
TZOFFSETTO:+0200
TZNAME:CEST
DTSTART:20250330T010000
END:DAYLIGHT
BEGIN:STANDARD
TZOFFSETFROM:+0200
TZOFFSETTO:+0100
TZNAME:CET
DTSTART:20251026T010000
END:STANDARD
END:VTIMEZONE
BEGIN:VEVENT
DTSTART;TZID=Europe/Madrid:20240424T140000
DTEND;TZID=Europe/Madrid:20241120T150000
DTSTAMP:20260420T005703
CREATED:20240420T054834Z
LAST-MODIFIED:20240515T054958Z
UID:10000003-1713967200-1732114800@www.fundaciohospitalariesbarcelona.org
SUMMARY:Sessions Clíniques a l'Atenció Primària 2024
DESCRIPTION:Ja estan disponibles els calendaris de les Sessions Clíniques dirigides al personal de l’Atenció Primària que organitza l’Hospital Sant Rafael. \nEn aquestes sessions\, especialistes referents dels diferents serveis del Centre intercanvien informació per tal de millorar el flux de pacients entre l’Atenció Primària i els serveis hospitalaris. En aquest any es duran a terme un total de tretze sessions. \nLes Sessions Clíniques s’impartiran tant a l’EBA Vallcarca com a l’EAP Sant Rafael. L’horari serà de 14 a 15 hores. \nAquesta activitat compta amb el suport de FIDMAG Germanes Hospitalàries Research Foundation. \nLa formació ha estat acreditada pel Consell Català de Formació Continuada de les Professions Sanitàries. Per a l’emissió dels certificats és indispensable el 100 % de l’assistència. \nPodeu trobar més informació i el programa d’aquest curs als documents adjunts. \nSessions Clíniques a l’Atenció Primària EAP Sant Rafael 2024 \nSessions Clíniques a l’Atenció Primarària EBA Vallcarca 2024
URL:https://www.fundaciohospitalariesbarcelona.org/esdeveniment/sessions-cliniques-a-latencio-primaria-2024/
END:VEVENT
BEGIN:VEVENT
DTSTART;TZID=Europe/Madrid:20240530T153000
DTEND;TZID=Europe/Madrid:20240530T170000
DTSTAMP:20260420T005703
CREATED:20240515T055351Z
LAST-MODIFIED:20240515T055701Z
UID:10000004-1717083000-1717088400@www.fundaciohospitalariesbarcelona.org
SUMMARY:Club de lectura: La campana de cristal de Sylvia Plath
DESCRIPTION:La novena sessió de la 6a edició del Club de Lectura San Rafael serà el 30 de maig amb La campana de cristal de Sylvia Plath. És l’única novel·la d’aquesta poetessa americana. És el relat\, en part autobiogràfic\, d’una dona jove amb un trastorn mental sever. La sessió serà\, com sempre\, de 15.30 a 17 hores\, a la biblioteca de l’Hospital.\n\nPodeu accedir al programa complet de la 6a edició del Club de Lectura Sant Rafael aquí. \nEl Club de Lectura és una iniciativa humanística i formativa del Comitè d’Ètica Assistencial de l’Hospital Sant Rafael\, amb el Suport de la Societat Catalana de Bioètica\, Barcelona\, ​​Ciutat de la Literatura i la Universitat Oberta de Catalunya. \nEls objectius d’aquest projecte són\, d’una banda\, millorar l’atenció que reben les persones malaltes\, cuidadores i acompanyants. De l’altra\, contribuir a incrementar la sensibilitat i la capacitat de resposta empàtica dels professionals sanitaris i comprendre\, a través dels textos literaris\, les diferents vivències que poden tenir els pacients sobre les seves malalties. Es tracta d’un projecte que està acreditat pel Consell Català de Formació Continuada de les Professions Sanitàries.
URL:https://www.fundaciohospitalariesbarcelona.org/esdeveniment/club-de-lectura-la-campana-de-cristal-de-sylvia-plath/
LOCATION:Fundació Hospitalàries Barcelona\, Pg. de la Vall d'Hebron\, 107-117\, Barcelona
END:VEVENT
END:VCALENDAR