BEGIN:VCALENDAR
VERSION:2.0
PRODID:-//Fundació Hospitalàries Barcelona-Hospital General, antic Hospital Sant Rafael - ECPv6.15.15//NONSGML v1.0//EN
CALSCALE:GREGORIAN
METHOD:PUBLISH
X-WR-CALNAME:Fundació Hospitalàries Barcelona-Hospital General, antic Hospital Sant Rafael
X-ORIGINAL-URL:https://www.fundaciohospitalariesbarcelona.org
X-WR-CALDESC:Esdeveniments per Fundació Hospitalàries Barcelona-Hospital General, antic Hospital Sant Rafael
REFRESH-INTERVAL;VALUE=DURATION:PT1H
X-Robots-Tag:noindex
X-PUBLISHED-TTL:PT1H
BEGIN:VTIMEZONE
TZID:Europe/Madrid
BEGIN:DAYLIGHT
TZOFFSETFROM:+0100
TZOFFSETTO:+0200
TZNAME:CEST
DTSTART:20230326T010000
END:DAYLIGHT
BEGIN:STANDARD
TZOFFSETFROM:+0200
TZOFFSETTO:+0100
TZNAME:CET
DTSTART:20231029T010000
END:STANDARD
BEGIN:DAYLIGHT
TZOFFSETFROM:+0100
TZOFFSETTO:+0200
TZNAME:CEST
DTSTART:20240331T010000
END:DAYLIGHT
BEGIN:STANDARD
TZOFFSETFROM:+0200
TZOFFSETTO:+0100
TZNAME:CET
DTSTART:20241027T010000
END:STANDARD
BEGIN:DAYLIGHT
TZOFFSETFROM:+0100
TZOFFSETTO:+0200
TZNAME:CEST
DTSTART:20250330T010000
END:DAYLIGHT
BEGIN:STANDARD
TZOFFSETFROM:+0200
TZOFFSETTO:+0100
TZNAME:CET
DTSTART:20251026T010000
END:STANDARD
END:VTIMEZONE
BEGIN:VEVENT
DTSTART;TZID=Europe/Madrid:20241121T083000
DTEND;TZID=Europe/Madrid:20241121T173000
DTSTAMP:20260420T022030
CREATED:20241004T100950Z
LAST-MODIFIED:20241004T100950Z
UID:10000017-1732177800-1732210200@www.fundaciohospitalariesbarcelona.org
SUMMARY:V Curs de Cirurgia menor Ambulatòria (CmA) per a metges d'atenció primària
DESCRIPTION:El 21 de novembre\, a la biblioteca de l’Hospital Sant Rafael\, tindrà lloc la cinquena edició del Curs de Cirurgia menor Ambulatòria (CmA) que organitzen de manera conjunta l’Hospital Sant Rafael i FIDMAG Germanes Hospitalàries Research Foundation. \nCada dia és més important poder resoldre de manera ràpida i eficient els problemes de salut de la població general. Els metges de família generalment són els primers a entrar en contacte amb la patologia quirúrgica senzilla de les persones ateses\, que en molts casos es podria resoldre de manera segura i àgil al mateix centre d’atenció primària\, cosa que presentaria beneficis tant per a la persona atesa com per al sistema sanitari\, estalviant temps i diners. \nLa primera edició d’aquest curs es va crear el 2016\, arran del programa de cooperació entre el servei de Cirurgia General de l’Hospital Sant Rafael i el CAP de Vallcarca. \nEn podeu trobar més informació al document adjunt.
URL:https://www.fundaciohospitalariesbarcelona.org/esdeveniment/v-curs-de-cirurgia-menor-ambulatoria-cma-per-a-metges-datencio-primaria/
LOCATION:Biblioteca Fundació Hospitalàries Barcelona\, Pg. de la Vall d'Hebron\, 107-117\, Barcelona\, Barcelona\, 08011
END:VEVENT
END:VCALENDAR