BEGIN:VCALENDAR
VERSION:2.0
PRODID:-//Fundació Hospitalàries Barcelona-Hospital General, antic Hospital Sant Rafael - ECPv6.15.15//NONSGML v1.0//EN
CALSCALE:GREGORIAN
METHOD:PUBLISH
X-WR-CALNAME:Fundació Hospitalàries Barcelona-Hospital General, antic Hospital Sant Rafael
X-ORIGINAL-URL:https://www.fundaciohospitalariesbarcelona.org
X-WR-CALDESC:Esdeveniments per Fundació Hospitalàries Barcelona-Hospital General, antic Hospital Sant Rafael
REFRESH-INTERVAL;VALUE=DURATION:PT1H
X-Robots-Tag:noindex
X-PUBLISHED-TTL:PT1H
BEGIN:VTIMEZONE
TZID:Europe/Madrid
BEGIN:DAYLIGHT
TZOFFSETFROM:+0100
TZOFFSETTO:+0200
TZNAME:CEST
DTSTART:20230326T010000
END:DAYLIGHT
BEGIN:STANDARD
TZOFFSETFROM:+0200
TZOFFSETTO:+0100
TZNAME:CET
DTSTART:20231029T010000
END:STANDARD
BEGIN:DAYLIGHT
TZOFFSETFROM:+0100
TZOFFSETTO:+0200
TZNAME:CEST
DTSTART:20240331T010000
END:DAYLIGHT
BEGIN:STANDARD
TZOFFSETFROM:+0200
TZOFFSETTO:+0100
TZNAME:CET
DTSTART:20241027T010000
END:STANDARD
BEGIN:DAYLIGHT
TZOFFSETFROM:+0100
TZOFFSETTO:+0200
TZNAME:CEST
DTSTART:20250330T010000
END:DAYLIGHT
BEGIN:STANDARD
TZOFFSETFROM:+0200
TZOFFSETTO:+0100
TZNAME:CET
DTSTART:20251026T010000
END:STANDARD
END:VTIMEZONE
BEGIN:VEVENT
DTSTART;TZID=Europe/Madrid:20241128T080000
DTEND;TZID=Europe/Madrid:20241128T100000
DTSTAMP:20260420T035726
CREATED:20241104T093632Z
LAST-MODIFIED:20241104T094120Z
UID:10000027-1732780800-1732788000@www.fundaciohospitalariesbarcelona.org
SUMMARY:Sessió general L’atenció al final de la vida
DESCRIPTION:La sessió general del mes de novembre es titula L’atenció al final de la vida al nostre Centre\, i la impartiran Joan Bertran i Rosalía Sánchez\, coordinador de Bioètica i TCAI de l’Hospital Sant Rafael\, respectivament. \nQUAN: 28 de novembre\, a les 8 h\nON: A la sala d’actes de l’Hospital
URL:https://www.fundaciohospitalariesbarcelona.org/esdeveniment/sessio-general-latencio-al-final-de-la-vida/
LOCATION:Sala d’actes Hospital Sant Rafael\, Pg. de la Vall d'Hebron\, 107\, Barcelona\, Barcelona\, 08035\, Espanya
END:VEVENT
BEGIN:VEVENT
DTSTART;TZID=Europe/Madrid:20241128T153000
DTEND;TZID=Europe/Madrid:20241128T170000
DTSTAMP:20260420T035726
CREATED:20241104T094233Z
LAST-MODIFIED:20241104T094233Z
UID:10000028-1732807800-1732813200@www.fundaciohospitalariesbarcelona.org
SUMMARY:‘Visc\, visc i visc’\, de Maggi O’Farrell
DESCRIPTION:La tercera sessió del Club de Lectura Sant Rafael\, aquest curs 2024-2025\, se centrarà en Visc\, visc i visc\, de Maggie O’Farrell. En aquesta novel·la\, l’autora narra disset moments en què la seva vida va córrer perill i va estar a punt d’escapar-se-li entre els dits. Són disset escenes\, disset vinyetes tenses\, viscerals i plenes de vida\, en les quals retrobem l’autora en diferents etapes vitals\, amb diverses mentalitats i en diversos llocs del planeta. \nQUAN: 28 de novembre\, a les 15.30 h\nON: Biblioteca de l’Hospital
URL:https://www.fundaciohospitalariesbarcelona.org/esdeveniment/visc-visc-i-visc-de-maggi-ofarrell/
LOCATION:Biblioteca Fundació Hospitalàries Barcelona\, Pg. de la Vall d'Hebron\, 107-117\, Barcelona\, Barcelona\, 08011
END:VEVENT
END:VCALENDAR