BEGIN:VCALENDAR
VERSION:2.0
PRODID:-//Fundació Hospitalàries Barcelona-Hospital General, antic Hospital Sant Rafael - ECPv6.15.15//NONSGML v1.0//EN
CALSCALE:GREGORIAN
METHOD:PUBLISH
X-ORIGINAL-URL:https://www.fundaciohospitalariesbarcelona.org
X-WR-CALDESC:Esdeveniments per Fundació Hospitalàries Barcelona-Hospital General, antic Hospital Sant Rafael
REFRESH-INTERVAL;VALUE=DURATION:PT1H
X-Robots-Tag:noindex
X-PUBLISHED-TTL:PT1H
BEGIN:VTIMEZONE
TZID:Europe/Madrid
BEGIN:DAYLIGHT
TZOFFSETFROM:+0100
TZOFFSETTO:+0200
TZNAME:CEST
DTSTART:20240331T010000
END:DAYLIGHT
BEGIN:STANDARD
TZOFFSETFROM:+0200
TZOFFSETTO:+0100
TZNAME:CET
DTSTART:20241027T010000
END:STANDARD
BEGIN:DAYLIGHT
TZOFFSETFROM:+0100
TZOFFSETTO:+0200
TZNAME:CEST
DTSTART:20250330T010000
END:DAYLIGHT
BEGIN:STANDARD
TZOFFSETFROM:+0200
TZOFFSETTO:+0100
TZNAME:CET
DTSTART:20251026T010000
END:STANDARD
BEGIN:DAYLIGHT
TZOFFSETFROM:+0100
TZOFFSETTO:+0200
TZNAME:CEST
DTSTART:20260329T010000
END:DAYLIGHT
BEGIN:STANDARD
TZOFFSETFROM:+0200
TZOFFSETTO:+0100
TZNAME:CET
DTSTART:20261025T010000
END:STANDARD
END:VTIMEZONE
BEGIN:VEVENT
DTSTART;TZID=Europe/Madrid:20250227T080000
DTEND;TZID=Europe/Madrid:20250227T090000
DTSTAMP:20260420T065554
CREATED:20250224T195015Z
LAST-MODIFIED:20250224T195844Z
UID:10000039-1740643200-1740646800@www.fundaciohospitalariesbarcelona.org
SUMMARY:Sessió general "Malalties minoritàries"
DESCRIPTION:El 27 de febrer\, de 8 a 9 h a la sala d’actes de l’Hospital\, tindrà lloc la sessió general “Malalties minoritàries”\, la qual serà impartida pel doctor Vicente Garcia\, referent del Servei de Neurologia de la Fundació Hospitalàries Barcelona\, i del doctor Juan Ramón Porqueras\, metge jubilat de medicina interna\, i comptarà amb el testimoni d’un pacient. \nPodeu accedir al programa de sessions generals 2025.
URL:https://www.fundaciohospitalariesbarcelona.org/esdeveniment/sessio-general-malalties-minoritaries/
LOCATION:Sala d’actes Fundació Hospitalàries Barcelona\, Pg. de la Vall d'Hebron\, 107\, Barcelona\, Barcelona\, 08035
END:VEVENT
END:VCALENDAR