BEGIN:VCALENDAR
VERSION:2.0
PRODID:-//Fundació Hospitalàries Barcelona-Hospital General, antic Hospital Sant Rafael - ECPv6.15.15//NONSGML v1.0//EN
CALSCALE:GREGORIAN
METHOD:PUBLISH
X-ORIGINAL-URL:https://www.fundaciohospitalariesbarcelona.org
X-WR-CALDESC:Esdeveniments per Fundació Hospitalàries Barcelona-Hospital General, antic Hospital Sant Rafael
REFRESH-INTERVAL;VALUE=DURATION:PT1H
X-Robots-Tag:noindex
X-PUBLISHED-TTL:PT1H
BEGIN:VTIMEZONE
TZID:Europe/Madrid
BEGIN:DAYLIGHT
TZOFFSETFROM:+0100
TZOFFSETTO:+0200
TZNAME:CEST
DTSTART:20240331T010000
END:DAYLIGHT
BEGIN:STANDARD
TZOFFSETFROM:+0200
TZOFFSETTO:+0100
TZNAME:CET
DTSTART:20241027T010000
END:STANDARD
BEGIN:DAYLIGHT
TZOFFSETFROM:+0100
TZOFFSETTO:+0200
TZNAME:CEST
DTSTART:20250330T010000
END:DAYLIGHT
BEGIN:STANDARD
TZOFFSETFROM:+0200
TZOFFSETTO:+0100
TZNAME:CET
DTSTART:20251026T010000
END:STANDARD
BEGIN:DAYLIGHT
TZOFFSETFROM:+0100
TZOFFSETTO:+0200
TZNAME:CEST
DTSTART:20260329T010000
END:DAYLIGHT
BEGIN:STANDARD
TZOFFSETFROM:+0200
TZOFFSETTO:+0100
TZNAME:CET
DTSTART:20261025T010000
END:STANDARD
END:VTIMEZONE
BEGIN:VEVENT
DTSTART;TZID=Europe/Madrid:20250508T083000
DTEND;TZID=Europe/Madrid:20250508T140000
DTSTAMP:20260420T113906
CREATED:20250408T084510Z
LAST-MODIFIED:20250505T084241Z
UID:10000051-1746693000-1746712800@www.fundaciohospitalariesbarcelona.org
SUMMARY:II Jornada Infermeres Hospitalàries
DESCRIPTION:A la Fundació Hospitalàries Barcelona\, els valors institucionals estan estretament lligats a la tasca que desenvolupa el personal d’infermeria. Amb l’objectiu de donar visibilitat a aquesta qüestió i en el marc de la celebració del Dia Internacional de la Infermera\, organitzem\, el proper 8 de maig\, la segona edició de les Jornades Infermeres Hospitalàries ‘Cuidant amb valors’\, centrades\, enguany\, en la Humanització en l’atenció. \nPodeu accedir al programa aquí\, on trobareu el formulari d’inscripció.
URL:https://www.fundaciohospitalariesbarcelona.org/esdeveniment/ii-jornada-infermeres-hospitalaries/
LOCATION:Sala d’actes Fundació Hospitalàries Barcelona\, Pg. de la Vall d'Hebron\, 107\, Barcelona\, Barcelona\, 08035
END:VEVENT
END:VCALENDAR