BEGIN:VCALENDAR
VERSION:2.0
PRODID:-//Fundació Hospitalàries Barcelona-Hospital General, antic Hospital Sant Rafael - ECPv6.15.15//NONSGML v1.0//EN
CALSCALE:GREGORIAN
METHOD:PUBLISH
X-ORIGINAL-URL:https://www.fundaciohospitalariesbarcelona.org
X-WR-CALDESC:Esdeveniments per Fundació Hospitalàries Barcelona-Hospital General, antic Hospital Sant Rafael
REFRESH-INTERVAL;VALUE=DURATION:PT1H
X-Robots-Tag:noindex
X-PUBLISHED-TTL:PT1H
BEGIN:VTIMEZONE
TZID:Europe/Madrid
BEGIN:DAYLIGHT
TZOFFSETFROM:+0100
TZOFFSETTO:+0200
TZNAME:CEST
DTSTART:20240331T010000
END:DAYLIGHT
BEGIN:STANDARD
TZOFFSETFROM:+0200
TZOFFSETTO:+0100
TZNAME:CET
DTSTART:20241027T010000
END:STANDARD
BEGIN:DAYLIGHT
TZOFFSETFROM:+0100
TZOFFSETTO:+0200
TZNAME:CEST
DTSTART:20250330T010000
END:DAYLIGHT
BEGIN:STANDARD
TZOFFSETFROM:+0200
TZOFFSETTO:+0100
TZNAME:CET
DTSTART:20251026T010000
END:STANDARD
BEGIN:DAYLIGHT
TZOFFSETFROM:+0100
TZOFFSETTO:+0200
TZNAME:CEST
DTSTART:20260329T010000
END:DAYLIGHT
BEGIN:STANDARD
TZOFFSETFROM:+0200
TZOFFSETTO:+0100
TZNAME:CET
DTSTART:20261025T010000
END:STANDARD
END:VTIMEZONE
BEGIN:VEVENT
DTSTART;VALUE=DATE:20250524
DTEND;VALUE=DATE:20250525
DTSTAMP:20260420T113925
CREATED:20250129T185848Z
LAST-MODIFIED:20250327T065325Z
UID:10000035-1748044800-1748131199@www.fundaciohospitalariesbarcelona.org
SUMMARY:24a edició del curs ‘Bases teòriques de la pràctica clínica de la marxa nòrdica en l’àmbit sanitari’
DESCRIPTION:La 24a edició del curs ‘Bases teòriques de la pràctica clínica de la marxa nòrdica en l’àmbit sanitari’\, organitzat per l’equip de marxa nòrdica de Fundació Hospitalàries Barcelona\, antic Hospital Sant Rafael\, s’iniciarà el proper mes de maig.\n\nAquest curs\, que s’adreça a professionals de l’àmbit sanitari (llicenciats\, diplomats o graduats)\, es desenvoluparà en dos mòduls:\n \n\nI mòdul: dissabtes 24 i 31 de maig de 9h a 12h (6 hores). El contingut és pràctic.\nII mòdul: divendres 13 i dissabte 14 de Juny. Divendres i Dissabte de 9 a 18.30 h (16 hores). El contingut és pràctic i teòric.\n\nEl curs\, que està acreditat pel Consell Català de Formació Continuada de les Professions Sanitàries\, té un total de 22 hores lectives i el seu preu és de 325 €.\n\nCal el 100 % de l’assistència per obtenir el títol.\n\nLa data límit d’inscripció és el proper 25 d’abril. A partir d’aquesta data\, no es reemborsarà el curs en cas de baixa. S’adjunta el full d’inscripció que cal enviar a marxanordica2.hsrafael@hospitalarias.es.\n\nPer a més informació podeu trucar al Servei de Rehabilitació (93 211 25 08 – extensió 10044\, els matins de 9 a 14 h i les tardes de 15 a 20 h o bé enviant un correu electrònic a marxanordica2.hsrafael@hospitalarias.es\n\nPodeu accedir al pòster del curs AQUÍ.
URL:https://www.fundaciohospitalariesbarcelona.org/esdeveniment/24a-edicio-del-curs-bases-teoriques-de-la-practica-clinica-de-la-marxa-nordica-en-lambit-sanitari/
LOCATION:Fundació Hospitalàries Barcelona\, Pg. de la Vall d'Hebron\, 107-117\, Barcelona
END:VEVENT
END:VCALENDAR