BEGIN:VCALENDAR
VERSION:2.0
PRODID:-//Fundació Hospitalàries Barcelona-Hospital General, antic Hospital Sant Rafael - ECPv6.15.15//NONSGML v1.0//EN
CALSCALE:GREGORIAN
METHOD:PUBLISH
X-WR-CALNAME:Fundació Hospitalàries Barcelona-Hospital General, antic Hospital Sant Rafael
X-ORIGINAL-URL:https://www.fundaciohospitalariesbarcelona.org
X-WR-CALDESC:Esdeveniments per Fundació Hospitalàries Barcelona-Hospital General, antic Hospital Sant Rafael
REFRESH-INTERVAL;VALUE=DURATION:PT1H
X-Robots-Tag:noindex
X-PUBLISHED-TTL:PT1H
BEGIN:VTIMEZONE
TZID:Europe/Madrid
BEGIN:DAYLIGHT
TZOFFSETFROM:+0100
TZOFFSETTO:+0200
TZNAME:CEST
DTSTART:20240331T010000
END:DAYLIGHT
BEGIN:STANDARD
TZOFFSETFROM:+0200
TZOFFSETTO:+0100
TZNAME:CET
DTSTART:20241027T010000
END:STANDARD
BEGIN:DAYLIGHT
TZOFFSETFROM:+0100
TZOFFSETTO:+0200
TZNAME:CEST
DTSTART:20250330T010000
END:DAYLIGHT
BEGIN:STANDARD
TZOFFSETFROM:+0200
TZOFFSETTO:+0100
TZNAME:CET
DTSTART:20251026T010000
END:STANDARD
BEGIN:DAYLIGHT
TZOFFSETFROM:+0100
TZOFFSETTO:+0200
TZNAME:CEST
DTSTART:20260329T010000
END:DAYLIGHT
BEGIN:STANDARD
TZOFFSETFROM:+0200
TZOFFSETTO:+0100
TZNAME:CET
DTSTART:20261025T010000
END:STANDARD
END:VTIMEZONE
BEGIN:VEVENT
DTSTART;TZID=Europe/Madrid:20250916T090000
DTEND;TZID=Europe/Madrid:20250916T140000
DTSTAMP:20260420T173609
CREATED:20250903T125552Z
LAST-MODIFIED:20250903T130313Z
UID:10000081-1758013200-1758031200@www.fundaciohospitalariesbarcelona.org
SUMMARY:III Seminari de bioètica
DESCRIPTION:La Fundació Hospitalàries Barcelona organitza\, el proper 16 de setembre\, la 3a edició del Seminari de Bioètica. Aquest curs\, adreçat als i les professionals de l’Hospital\, es desenvoluparà de 9 a 14 h a la biblioteca del Centre. \nEl seminari serà impartit pel nou president del Comitè d’Ètica Assistencial (CEA) de la Fundació Hospitalàries Barcelona\, el doctor Vicente Jesús García Gil\, i pel doctor Víctor Barrau i per la infermera Gemma Calvet\, vocals del CEA. Podeu ampliar la informació aquí.
URL:https://www.fundaciohospitalariesbarcelona.org/esdeveniment/iii-seminari-de-bioetica/
LOCATION:Biblioteca Fundació Hospitalàries Barcelona\, Pg. de la Vall d'Hebron\, 107-117\, Barcelona\, Barcelona\, 08011
END:VEVENT
END:VCALENDAR