BEGIN:VCALENDAR
VERSION:2.0
PRODID:-//Fundació Hospitalàries Barcelona-Hospital General, antic Hospital Sant Rafael - ECPv6.15.15//NONSGML v1.0//EN
CALSCALE:GREGORIAN
METHOD:PUBLISH
X-WR-CALNAME:Fundació Hospitalàries Barcelona-Hospital General, antic Hospital Sant Rafael
X-ORIGINAL-URL:https://www.fundaciohospitalariesbarcelona.org
X-WR-CALDESC:Esdeveniments per Fundació Hospitalàries Barcelona-Hospital General, antic Hospital Sant Rafael
REFRESH-INTERVAL;VALUE=DURATION:PT1H
X-Robots-Tag:noindex
X-PUBLISHED-TTL:PT1H
BEGIN:VTIMEZONE
TZID:Europe/Madrid
BEGIN:DAYLIGHT
TZOFFSETFROM:+0100
TZOFFSETTO:+0200
TZNAME:CEST
DTSTART:20240331T010000
END:DAYLIGHT
BEGIN:STANDARD
TZOFFSETFROM:+0200
TZOFFSETTO:+0100
TZNAME:CET
DTSTART:20241027T010000
END:STANDARD
BEGIN:DAYLIGHT
TZOFFSETFROM:+0100
TZOFFSETTO:+0200
TZNAME:CEST
DTSTART:20250330T010000
END:DAYLIGHT
BEGIN:STANDARD
TZOFFSETFROM:+0200
TZOFFSETTO:+0100
TZNAME:CET
DTSTART:20251026T010000
END:STANDARD
BEGIN:DAYLIGHT
TZOFFSETFROM:+0100
TZOFFSETTO:+0200
TZNAME:CEST
DTSTART:20260329T010000
END:DAYLIGHT
BEGIN:STANDARD
TZOFFSETFROM:+0200
TZOFFSETTO:+0100
TZNAME:CET
DTSTART:20261025T010000
END:STANDARD
END:VTIMEZONE
BEGIN:VEVENT
DTSTART;TZID=Europe/Madrid:20250925T080000
DTEND;TZID=Europe/Madrid:20250925T090000
DTSTAMP:20260420T173608
CREATED:20250701T064419Z
LAST-MODIFIED:20250903T125642Z
UID:10000065-1758787200-1758790800@www.fundaciohospitalariesbarcelona.org
SUMMARY:Sessió general "Trastorn de la Conducta Alimentària"
DESCRIPTION:El 25 de setembre\, de 8 a 9 h a la sala d’actes de l’Hospital\, tindrà lloc la sessió general ‘Trastorn de la Conducta Alimentària’\, a càrrec de Juan Carlos Acosta\, infermer del CSMIJ de la Fundació Hospitalàries Barcelona.\n\nPodeu accedir al programa de sessions generals 2025.
URL:https://www.fundaciohospitalariesbarcelona.org/esdeveniment/sessio-general-trastorn-de-la-conducta-alimentaria/
LOCATION:Sala d’actes Fundació Hospitalàries Barcelona\, Pg. de la Vall d'Hebron\, 107\, Barcelona\, Barcelona\, 08035
END:VEVENT
BEGIN:VEVENT
DTSTART;TZID=Europe/Madrid:20250925T153000
DTEND;TZID=Europe/Madrid:20250925T170000
DTSTAMP:20260420T173608
CREATED:20250725T085929Z
LAST-MODIFIED:20250725T085929Z
UID:10000077-1758814200-1758819600@www.fundaciohospitalariesbarcelona.org
SUMMARY:8a edició del Club de Lectura de la Fundació Hospitalàries Barcelona
DESCRIPTION:Podeu accedir al programa de la 8a edició del Club de Lectura de la Fundació Hospitalàries Barcelona\, una activitat formativa adreçada als professionals sanitaris i la qual està acreditada pel Consell Català de Formació Continuada de les Professions Sanitàries. Les sessions que tenen lloc el darrer dijous de cada mes de 15.30 a 17 hores a la biblioteca de l’Hospital. Per a més informació podeu escriure un correu electrònic a clubdelectura.barcelona@fundacionhospitalarias.org.
URL:https://www.fundaciohospitalariesbarcelona.org/esdeveniment/8a-edicio-del-club-de-lectura-de-la-fundacio-hospitalaries-barcelona/
LOCATION:Biblioteca Fundació Hospitalàries Barcelona\, Pg. de la Vall d'Hebron\, 107-117\, Barcelona\, Barcelona\, 08011
END:VEVENT
END:VCALENDAR