BEGIN:VCALENDAR
VERSION:2.0
PRODID:-//Fundació Hospitalàries Barcelona-Hospital General, antic Hospital Sant Rafael - ECPv6.15.15//NONSGML v1.0//EN
CALSCALE:GREGORIAN
METHOD:PUBLISH
X-WR-CALNAME:Fundació Hospitalàries Barcelona-Hospital General, antic Hospital Sant Rafael
X-ORIGINAL-URL:https://www.fundaciohospitalariesbarcelona.org
X-WR-CALDESC:Esdeveniments per Fundació Hospitalàries Barcelona-Hospital General, antic Hospital Sant Rafael
REFRESH-INTERVAL;VALUE=DURATION:PT1H
X-Robots-Tag:noindex
X-PUBLISHED-TTL:PT1H
BEGIN:VTIMEZONE
TZID:Europe/Madrid
BEGIN:DAYLIGHT
TZOFFSETFROM:+0100
TZOFFSETTO:+0200
TZNAME:CEST
DTSTART:20240331T010000
END:DAYLIGHT
BEGIN:STANDARD
TZOFFSETFROM:+0200
TZOFFSETTO:+0100
TZNAME:CET
DTSTART:20241027T010000
END:STANDARD
BEGIN:DAYLIGHT
TZOFFSETFROM:+0100
TZOFFSETTO:+0200
TZNAME:CEST
DTSTART:20250330T010000
END:DAYLIGHT
BEGIN:STANDARD
TZOFFSETFROM:+0200
TZOFFSETTO:+0100
TZNAME:CET
DTSTART:20251026T010000
END:STANDARD
BEGIN:DAYLIGHT
TZOFFSETFROM:+0100
TZOFFSETTO:+0200
TZNAME:CEST
DTSTART:20260329T010000
END:DAYLIGHT
BEGIN:STANDARD
TZOFFSETFROM:+0200
TZOFFSETTO:+0100
TZNAME:CET
DTSTART:20261025T010000
END:STANDARD
END:VTIMEZONE
BEGIN:VEVENT
DTSTART;TZID=Europe/Madrid:20251017T090000
DTEND;TZID=Europe/Madrid:20251017T140000
DTSTAMP:20260420T190449
CREATED:20250712T080551Z
LAST-MODIFIED:20250717T105318Z
UID:10000075-1760691600-1760709600@www.fundaciohospitalariesbarcelona.org
SUMMARY:I Jornada de Treball Social Sanitari de Fundació Hospitalàries a Catalunya
DESCRIPTION:La I Jornada de Treball Social Sanitari de Fundació Hospitalàries a Catalunya tindrà lloc el 17 d’octubre de 2025 a la sala d’actes de Fundació Hospitalàries Barcelona. Amb el lema “Reptes del treball social sanitari: una mirada des de l’atenció centrada en els drets de la persona”\, la trobada serà un espai per a la reflexió\, d’intercanvi d’experiències i actualització en temes clau\, com els nous paradigmes en l’atenció social en salut mental i el procés d’acompanyament des del treball social sanitari. \nPodeu accedir al programa i fer la inscripció aquí.
URL:https://www.fundaciohospitalariesbarcelona.org/esdeveniment/i-jornada-de-treball-social-sanitari-de-fundacio-hospitalaries-a-catalunya/
LOCATION:Sala d’actes Fundació Hospitalàries Barcelona\, Pg. de la Vall d'Hebron\, 107\, Barcelona\, Barcelona\, 08035
END:VEVENT
END:VCALENDAR