BEGIN:VCALENDAR
VERSION:2.0
PRODID:-//Fundació Hospitalàries Barcelona-Hospital General, antic Hospital Sant Rafael - ECPv6.15.15//NONSGML v1.0//EN
CALSCALE:GREGORIAN
METHOD:PUBLISH
X-WR-CALNAME:Fundació Hospitalàries Barcelona-Hospital General, antic Hospital Sant Rafael
X-ORIGINAL-URL:https://www.fundaciohospitalariesbarcelona.org
X-WR-CALDESC:Esdeveniments per Fundació Hospitalàries Barcelona-Hospital General, antic Hospital Sant Rafael
REFRESH-INTERVAL;VALUE=DURATION:PT1H
X-Robots-Tag:noindex
X-PUBLISHED-TTL:PT1H
BEGIN:VTIMEZONE
TZID:Europe/Madrid
BEGIN:DAYLIGHT
TZOFFSETFROM:+0100
TZOFFSETTO:+0200
TZNAME:CEST
DTSTART:20240331T010000
END:DAYLIGHT
BEGIN:STANDARD
TZOFFSETFROM:+0200
TZOFFSETTO:+0100
TZNAME:CET
DTSTART:20241027T010000
END:STANDARD
BEGIN:DAYLIGHT
TZOFFSETFROM:+0100
TZOFFSETTO:+0200
TZNAME:CEST
DTSTART:20250330T010000
END:DAYLIGHT
BEGIN:STANDARD
TZOFFSETFROM:+0200
TZOFFSETTO:+0100
TZNAME:CET
DTSTART:20251026T010000
END:STANDARD
BEGIN:DAYLIGHT
TZOFFSETFROM:+0100
TZOFFSETTO:+0200
TZNAME:CEST
DTSTART:20260329T010000
END:DAYLIGHT
BEGIN:STANDARD
TZOFFSETFROM:+0200
TZOFFSETTO:+0100
TZNAME:CET
DTSTART:20261025T010000
END:STANDARD
END:VTIMEZONE
BEGIN:VEVENT
DTSTART;TZID=Europe/Madrid:20251025T083000
DTEND;TZID=Europe/Madrid:20251025T103000
DTSTAMP:20260420T190512
CREATED:20251014T084130Z
LAST-MODIFIED:20251014T095632Z
UID:10000085-1761381000-1761388200@www.fundaciohospitalariesbarcelona.org
SUMMARY:Sortida de marxa nòrdica – 25 d'octubre
DESCRIPTION:El dissabte 25 d’octubre tindrà lloc la primera sortida de marxa nòrdica després de la pausa d’estiu. L’activitat serà de nivell fàcil i tindrà una durada aproximada d’entre 1 h 30 min i 2 h. \nEl preu de la sortida és de 8€\, i de 10€ en cas de necessitar bastons. \nPer poder participar-hi\, cal haver realitzat prèviament el Curs d’Iniciació a la Marxa Nòrdica amb l’Equip de Marxa Nòrdica de la Fundació Hospitalàries Barcelona. \nPodeu incriure-us enviant un correu electrònic a marxa.nordica@fundacionhospitalarias.org amb les dades següents: \nNOM i COGNOMS:\nTELÈFON:\nBASTONS-Respongueu SI (indiqueu alçada) o NO: \nCORREU ELECTRÒNIC: \nLa data límit d’inscripció és el proper 20 d’octubre.
URL:https://www.fundaciohospitalariesbarcelona.org/esdeveniment/sortida-de-marxa-nordica-25-doctubre/
LOCATION:Fundació Hospitalàries Barcelona\, Pg. de la Vall d'Hebron\, 107-117\, Barcelona
END:VEVENT
END:VCALENDAR