BEGIN:VCALENDAR
VERSION:2.0
PRODID:-//Fundació Hospitalàries Barcelona-Hospital General, antic Hospital Sant Rafael - ECPv6.15.15//NONSGML v1.0//EN
CALSCALE:GREGORIAN
METHOD:PUBLISH
X-ORIGINAL-URL:https://www.fundaciohospitalariesbarcelona.org
X-WR-CALDESC:Esdeveniments per Fundació Hospitalàries Barcelona-Hospital General, antic Hospital Sant Rafael
REFRESH-INTERVAL;VALUE=DURATION:PT1H
X-Robots-Tag:noindex
X-PUBLISHED-TTL:PT1H
BEGIN:VTIMEZONE
TZID:Europe/Madrid
BEGIN:DAYLIGHT
TZOFFSETFROM:+0100
TZOFFSETTO:+0200
TZNAME:CEST
DTSTART:20250330T010000
END:DAYLIGHT
BEGIN:STANDARD
TZOFFSETFROM:+0200
TZOFFSETTO:+0100
TZNAME:CET
DTSTART:20251026T010000
END:STANDARD
BEGIN:DAYLIGHT
TZOFFSETFROM:+0100
TZOFFSETTO:+0200
TZNAME:CEST
DTSTART:20260329T010000
END:DAYLIGHT
BEGIN:STANDARD
TZOFFSETFROM:+0200
TZOFFSETTO:+0100
TZNAME:CET
DTSTART:20261025T010000
END:STANDARD
BEGIN:DAYLIGHT
TZOFFSETFROM:+0100
TZOFFSETTO:+0200
TZNAME:CEST
DTSTART:20270328T010000
END:DAYLIGHT
BEGIN:STANDARD
TZOFFSETFROM:+0200
TZOFFSETTO:+0100
TZNAME:CET
DTSTART:20271031T010000
END:STANDARD
END:VTIMEZONE
BEGIN:VEVENT
DTSTART;TZID=Europe/Madrid:20260129T080000
DTEND;TZID=Europe/Madrid:20261217T090000
DTSTAMP:20260421T043309
CREATED:20260126T111422Z
LAST-MODIFIED:20260126T111901Z
UID:10000089-1769673600-1797498000@www.fundaciohospitalariesbarcelona.org
SUMMARY:Programa Sessions Generals 2026
DESCRIPTION:Les Sessions Generals 2026 tindran lloc del 29 de gener al 17 de desembre de 2026 a la Sala d’Actes de la Fundació Hospitalàries Barcelona. Es duran a terme en l’horari habitual\, de 8 a 9 h\, i tractaran temes d’actualitat relacionats amb la pràctica assistencial\, la recerca\, la innovació i la gestió\, amb la participació de professionals interns i d’experts externs.\n\nPodeu consultar el programa complet i el calendari al document adjunt.
URL:https://www.fundaciohospitalariesbarcelona.org/esdeveniment/programa-sessions-generals-2026/
LOCATION:Sala d’actes Fundació Hospitalàries Barcelona\, Pg. de la Vall d'Hebron\, 107\, Barcelona\, Barcelona\, 08035
END:VEVENT
BEGIN:VEVENT
DTSTART;TZID=Europe/Madrid:20260416T083000
DTEND;TZID=Europe/Madrid:20260416T140000
DTSTAMP:20260421T043309
CREATED:20260212T114542Z
LAST-MODIFIED:20260412T172655Z
UID:10000097-1776328200-1776348000@www.fundaciohospitalariesbarcelona.org
SUMMARY:VI Jornades Catalanes d’Hospitals de Dia d’Adults en Salut Mental
DESCRIPTION:El pròxim dijous 16 d’abril\, l’auditori de la Fundació Hospitalàries Barcelona acollirà les VI Jornades Catalanes d’Hospitals de Dia d’Adults en Salut Mental. En aquesta edició\, les jornades tenen per objectiu reflexionar i compartir coneixement entorn de l’abordatge del Trastorn de la Conducta Alimentària (TCA) i el Trastorn de l’Espectre Autista (TEA); dos perfils diagnòstics que\, amb freqüència\, generen dificultats més grans en el context de l’hospital de dia general. \n\nAquestes dificultats no només es relacionen amb la intensitat de la simptomatologia\, sinó també amb aspectes com l’adherència al tractament\, la regulació emocional\, la convivència terapèutica en grup i la coordinació amb altres dispositius de la xarxa assistencial. \nPodeu accedir al programa i al formulari d’inscripció.
URL:https://www.fundaciohospitalariesbarcelona.org/esdeveniment/vi-jornades-catalanes-dhospitals-de-dia-dadults-en-salut-mental/
LOCATION:Sala d’actes Fundació Hospitalàries Barcelona\, Pg. de la Vall d'Hebron\, 107\, Barcelona\, Barcelona\, 08035
END:VEVENT
END:VCALENDAR