BEGIN:VCALENDAR
VERSION:2.0
PRODID:-//Fundació Hospitalàries Barcelona-Hospital General, antic Hospital Sant Rafael - ECPv6.15.15//NONSGML v1.0//EN
CALSCALE:GREGORIAN
METHOD:PUBLISH
X-ORIGINAL-URL:https://www.fundaciohospitalariesbarcelona.org
X-WR-CALDESC:Esdeveniments per Fundació Hospitalàries Barcelona-Hospital General, antic Hospital Sant Rafael
REFRESH-INTERVAL;VALUE=DURATION:PT1H
X-Robots-Tag:noindex
X-PUBLISHED-TTL:PT1H
BEGIN:VTIMEZONE
TZID:Europe/Madrid
BEGIN:DAYLIGHT
TZOFFSETFROM:+0100
TZOFFSETTO:+0200
TZNAME:CEST
DTSTART:20230326T010000
END:DAYLIGHT
BEGIN:STANDARD
TZOFFSETFROM:+0200
TZOFFSETTO:+0100
TZNAME:CET
DTSTART:20231029T010000
END:STANDARD
BEGIN:DAYLIGHT
TZOFFSETFROM:+0100
TZOFFSETTO:+0200
TZNAME:CEST
DTSTART:20240331T010000
END:DAYLIGHT
BEGIN:STANDARD
TZOFFSETFROM:+0200
TZOFFSETTO:+0100
TZNAME:CET
DTSTART:20241027T010000
END:STANDARD
BEGIN:DAYLIGHT
TZOFFSETFROM:+0100
TZOFFSETTO:+0200
TZNAME:CEST
DTSTART:20250330T010000
END:DAYLIGHT
BEGIN:STANDARD
TZOFFSETFROM:+0200
TZOFFSETTO:+0100
TZNAME:CET
DTSTART:20251026T010000
END:STANDARD
END:VTIMEZONE
BEGIN:VEVENT
DTSTART;TZID=Europe/Madrid:20241212T153000
DTEND;TZID=Europe/Madrid:20241212T170000
DTSTAMP:20260420T023252
CREATED:20241204T123235Z
LAST-MODIFIED:20241204T123235Z
UID:10000030-1734017400-1734022800@www.fundaciohospitalariesbarcelona.org
SUMMARY:Sessió extraordinària del Club de Lectura Sant Rafael
DESCRIPTION:La sessió extraordinària del Club de Lectura Sant Rafael\, aquest curs 2024-2025\, se centrarà en Camp 3\, de Marc Pujol Riqué. Aquest llibre està basat en  l’estiu de 1938\, en plena Guerra Civil\, en un petit municipi de l’interior de Catalunya. És el poble de la família de l’autor del llibre\, que de petit\, desconeixedor d’aquest fet\, jugava amb els amics a les trinxeres que van quedar al territori. L’autor reconstrueix l’època de la guerra mitjançant entrevistes als ancians que aleshores eren nens\, i\, en un joc de miralls\, també explica les seves vivències d’infantesa\, una època de pau ben diferent de la dels seus avis. \nLa sessió serà\, com sempre\, de 15.30 a 17 hores\, a la biblioteca de l’Hospital. \nPodeu accedir al programa complet de la 7a edició del Club de Lectura Sant Rafael aquí. \nEl Club de Lectura és una iniciativa humanística i formativa del Comitè d’Ètica Assistencial de l’Hospital Sant Rafael\, amb el Suport de la Societat Catalana de Bioètica\, Barcelona\, ​​Ciutat de la Literatura i la Universitat Oberta de Catalunya. \nEls objectius d’aquest projecte són\, d’una banda\, millorar l’atenció que reben les persones malaltes\, cuidadores i acompanyants. De l’altra\, contribuir a incrementar la sensibilitat i la capacitat de resposta empàtica dels professionals sanitaris i comprendre\, a través dels textos literaris\, les diferents vivències que poden tenir els pacients sobre les seves malalties. Es tracta d’un projecte que està acreditat pel Consell Català de Formació Continuada de les Professions Sanitàries.
URL:https://www.fundaciohospitalariesbarcelona.org/esdeveniment/sessio-extraordinaria-del-club-de-lectura-sant-rafael/
LOCATION:Biblioteca Fundació Hospitalàries Barcelona\, Pg. de la Vall d'Hebron\, 107-117\, Barcelona\, Barcelona\, 08011
END:VEVENT
BEGIN:VEVENT
DTSTART;TZID=Europe/Madrid:20241219T080000
DTEND;TZID=Europe/Madrid:20241219T090000
DTSTAMP:20260420T023252
CREATED:20241204T124544Z
LAST-MODIFIED:20241204T124631Z
UID:10000032-1734595200-1734598800@www.fundaciohospitalariesbarcelona.org
SUMMARY:Sessió general\, “Cloenda de les Sessions Generals del 2024: Presentació d’activitats científiques”
DESCRIPTION:El 19 de desembre\, de 8 a 9 h a la sala d’actes de l’Hospital\, tindrà lloc la sessió general “Cloenda de les Sessions Generals del 2024: Presentació d’activitats científiques”\, que comptarà amb diversos ponents. \nPodeu accedir al programa de sessions generals 2024 al document adjunt.
URL:https://www.fundaciohospitalariesbarcelona.org/esdeveniment/sessio-general-cloenda-de-les-sessions-generals-del-2024-presentacio-dactivitats-cientifiques/
LOCATION:Sala d’actes Hospital Sant Rafael\, Pg. de la Vall d'Hebron\, 107\, Barcelona\, Barcelona\, 08035\, Espanya
END:VEVENT
BEGIN:VEVENT
DTSTART;TZID=Europe/Madrid:20241219T153000
DTEND;TZID=Europe/Madrid:20241219T170000
DTSTAMP:20260420T023252
CREATED:20241204T123807Z
LAST-MODIFIED:20241204T124041Z
UID:10000031-1734622200-1734627600@www.fundaciohospitalariesbarcelona.org
SUMMARY:Club de lectura: VOLTAIRE/ROUSSEAU: LA DISPUTA  de Jean François Prevand
DESCRIPTION:La cinquena sessió del Club de Lectura Sant Rafael\, aquest curs 2024-2025\, se centrarà en VOLTAIRE/ROUSSEAU: LA DISPUTA de Jean François Prevand. Un apassionat text del Segle XVIII\, apoteosi de la Il·lustració i Segle de les Llums. Una conversa entre dos filòsofs\, Voltaire que creia en les virtuts de la raó\, la ciència y l’art com a generadors del progrés de la civilització i\, Rousseau que sostenia en canvi\, que eren la causa de la ruïna de la llibertat i la innocència de l’home. \nLa sessió serà\, com sempre\, de 15.30 a 17 hores\, a la biblioteca de l’Hospital. \nPodeu accedir al programa complet de la 7a edició del Club de Lectura Sant Rafael aquí. \nEl Club de Lectura és una iniciativa humanística i formativa del Comitè d’Ètica Assistencial de l’Hospital Sant Rafael\, amb el Suport de la Societat Catalana de Bioètica\, Barcelona\, ​​Ciutat de la Literatura i la Universitat Oberta de Catalunya. \nEls objectius d’aquest projecte són\, d’una banda\, millorar l’atenció que reben les persones malaltes\, cuidadores i acompanyants. De l’altra\, contribuir a incrementar la sensibilitat i la capacitat de resposta empàtica dels professionals sanitaris i comprendre\, a través dels textos literaris\, les diferents vivències que poden tenir els pacients sobre les seves malalties. Es tracta d’un projecte que està acreditat pel Consell Català de Formació Continuada de les Professions Sanitàries.
URL:https://www.fundaciohospitalariesbarcelona.org/esdeveniment/club-de-lectura-voltaire-rousseau-la-disputa-de-jean-francois-prevand/
LOCATION:Biblioteca Fundació Hospitalàries Barcelona\, Pg. de la Vall d'Hebron\, 107-117\, Barcelona\, Barcelona\, 08011
END:VEVENT
END:VCALENDAR