BEGIN:VCALENDAR
VERSION:2.0
PRODID:-//Fundació Hospitalàries Barcelona-Hospital General, antic Hospital Sant Rafael - ECPv6.15.15//NONSGML v1.0//EN
CALSCALE:GREGORIAN
METHOD:PUBLISH
X-WR-CALNAME:Fundació Hospitalàries Barcelona-Hospital General, antic Hospital Sant Rafael
X-ORIGINAL-URL:https://www.fundaciohospitalariesbarcelona.org
X-WR-CALDESC:Esdeveniments per Fundació Hospitalàries Barcelona-Hospital General, antic Hospital Sant Rafael
REFRESH-INTERVAL;VALUE=DURATION:PT1H
X-Robots-Tag:noindex
X-PUBLISHED-TTL:PT1H
BEGIN:VTIMEZONE
TZID:Europe/Madrid
BEGIN:DAYLIGHT
TZOFFSETFROM:+0100
TZOFFSETTO:+0200
TZNAME:CEST
DTSTART:20240331T010000
END:DAYLIGHT
BEGIN:STANDARD
TZOFFSETFROM:+0200
TZOFFSETTO:+0100
TZNAME:CET
DTSTART:20241027T010000
END:STANDARD
BEGIN:DAYLIGHT
TZOFFSETFROM:+0100
TZOFFSETTO:+0200
TZNAME:CEST
DTSTART:20250330T010000
END:DAYLIGHT
BEGIN:STANDARD
TZOFFSETFROM:+0200
TZOFFSETTO:+0100
TZNAME:CET
DTSTART:20251026T010000
END:STANDARD
BEGIN:DAYLIGHT
TZOFFSETFROM:+0100
TZOFFSETTO:+0200
TZNAME:CEST
DTSTART:20260329T010000
END:DAYLIGHT
BEGIN:STANDARD
TZOFFSETFROM:+0200
TZOFFSETTO:+0100
TZNAME:CET
DTSTART:20261025T010000
END:STANDARD
END:VTIMEZONE
BEGIN:VEVENT
DTSTART;VALUE=DATE:20250402
DTEND;VALUE=DATE:20250404
DTSTAMP:20260420T082220
CREATED:20250313T114443Z
LAST-MODIFIED:20250313T115217Z
UID:10000045-1743552000-1743724799@www.fundaciohospitalariesbarcelona.org
SUMMARY:Fira Virtual d'Ocupació de la UOC
DESCRIPTION:Fundació Hospitalàries Barcelona estarà present a la Fira Virtual d’Ocupació de la UOC.\nAccedeix en exclusiva a les nostres ofertes laborals i de pràctiques. \nEsdeveniment Online i en directe.
URL:https://www.fundaciohospitalariesbarcelona.org/esdeveniment/fira-virtual-docupacio-de-la-uoc/
LOCATION:Barcelona
END:VEVENT
BEGIN:VEVENT
DTSTART;TZID=Europe/Madrid:20250403T180000
DTEND;TZID=Europe/Madrid:20250403T193000
DTSTAMP:20260420T082220
CREATED:20250327T065818Z
LAST-MODIFIED:20250327T065818Z
UID:10000047-1743703200-1743708600@www.fundaciohospitalariesbarcelona.org
SUMMARY:Acte de presentació de la Càtedra de Psicogeriatria
DESCRIPTION:El 3 d’abril\, a partir de les 18 h\, a la sala d’actes de la Fundació Hospitalàries Barcelona\, tindrà lloc l’acte de presentació de la Càtedra de Psicogeriatria. \nPodeu accedir al programa aquí.
URL:https://www.fundaciohospitalariesbarcelona.org/esdeveniment/acte-de-presentacio-de-la-catedra-de-psicogeriatria/
LOCATION:Sala d’actes Fundació Hospitalàries Barcelona\, Pg. de la Vall d'Hebron\, 107\, Barcelona\, Barcelona\, 08035
END:VEVENT
BEGIN:VEVENT
DTSTART;TZID=Europe/Madrid:20250424T080000
DTEND;TZID=Europe/Madrid:20250424T090000
DTSTAMP:20260420T082220
CREATED:20250410T130306Z
LAST-MODIFIED:20250411T082652Z
UID:10000053-1745481600-1745485200@www.fundaciohospitalariesbarcelona.org
SUMMARY:Sessió general “Sistemes d'Informació en Salut\, present i futur al nostre centre"
DESCRIPTION:El 24 d’abril\, de 8 a 9 h a la sala d’actes de l’Hospital\, tindrà lloc la sessió general “Sistemes d’Informació en Salut\, present i futur al nostre centre”\, la qual serà impartida per Jusèp Rifà\, cap d’Organització o Sistemes d’Informació de la Fundació Hospitalàries Barcelona. \nPodeu accedir al programa de sessions generals 2025.
URL:https://www.fundaciohospitalariesbarcelona.org/esdeveniment/sessio-general-sistemes-dinformacio-en-salut-present-i-futur-al-nostre-centre/
LOCATION:Sala d’actes Fundació Hospitalàries Barcelona\, Pg. de la Vall d'Hebron\, 107\, Barcelona\, Barcelona\, 08035
END:VEVENT
BEGIN:VEVENT
DTSTART;TZID=Europe/Madrid:20250425T112000
DTEND;TZID=Europe/Madrid:20250425T133000
DTSTAMP:20260420T082220
CREATED:20250417T140911Z
LAST-MODIFIED:20250417T141051Z
UID:10000057-1745580000-1745587800@www.fundaciohospitalariesbarcelona.org
SUMMARY:Celebració de la Festivitat de Sant Benito Menni
DESCRIPTION:El 25 d’abril\, la Fundació Hospitalàries Barcelona acollirà la celebració de la Festivitat de Sant Benito Menni\, patró del nostre Hospital\, amb un acte que comptarà amb la presència destacada de la doctora Ángela López Tarrida\, coordinadora del Departament d’Ètica de la Unitat Territorial II de l’Orde Hospitalari de Sant Joan de Déu. Podeu accedir al programa aquí.
URL:https://www.fundaciohospitalariesbarcelona.org/esdeveniment/celebracio-de-la-festivitat-de-sant-benito-menni/
LOCATION:Fundació Hospitalàries Barcelona\, Pg. de la Vall d'Hebron\, 107-117\, Barcelona
END:VEVENT
BEGIN:VEVENT
DTSTART;TZID=Europe/Madrid:20250426T090000
DTEND;TZID=Europe/Madrid:20250426T103000
DTSTAMP:20260420T082220
CREATED:20240910T063347Z
LAST-MODIFIED:20250401T115615Z
UID:10000016-1745658000-1745663400@www.fundaciohospitalariesbarcelona.org
SUMMARY:Memorial Charo
DESCRIPTION:El proper 26 d’abril tindrà lloc una nova edició del Memorial Charo de Marxa Nòrdica. Hi haurà una única sortida (nivell fàcil)\, d’1 hora i 30 min. El lloc de trobada serà l’entrada principal de la Fundació Hospitalàries Barcelona i l’hora de sortida\, les 9 h. Podeu accedir al PÒSTER i al FULL INFORMATIU del memorial.\n\nLa inscripció és gratuïta. És imprescindible omplir el FULL D’INSCRIPCIÓ\, ja que les places són limitades. La data límit per a inscriure-us és el 22 d’abril. Si necessiten bastons caldrà que aboneu 2€ (pagament en efectiu i just). Així mateix\, hi haurà venda d’articles\, com samarretes\, guants o buff.
URL:https://www.fundaciohospitalariesbarcelona.org/esdeveniment/memorial-charo/
LOCATION:Barcelona
END:VEVENT
END:VCALENDAR