BEGIN:VCALENDAR
VERSION:2.0
PRODID:-//Fundació Hospitalàries Barcelona-Hospital General, antic Hospital Sant Rafael - ECPv6.15.15//NONSGML v1.0//EN
CALSCALE:GREGORIAN
METHOD:PUBLISH
X-ORIGINAL-URL:https://www.fundaciohospitalariesbarcelona.org
X-WR-CALDESC:Esdeveniments per Fundació Hospitalàries Barcelona-Hospital General, antic Hospital Sant Rafael
REFRESH-INTERVAL;VALUE=DURATION:PT1H
X-Robots-Tag:noindex
X-PUBLISHED-TTL:PT1H
BEGIN:VTIMEZONE
TZID:Europe/Madrid
BEGIN:DAYLIGHT
TZOFFSETFROM:+0100
TZOFFSETTO:+0200
TZNAME:CEST
DTSTART:20240331T010000
END:DAYLIGHT
BEGIN:STANDARD
TZOFFSETFROM:+0200
TZOFFSETTO:+0100
TZNAME:CET
DTSTART:20241027T010000
END:STANDARD
BEGIN:DAYLIGHT
TZOFFSETFROM:+0100
TZOFFSETTO:+0200
TZNAME:CEST
DTSTART:20250330T010000
END:DAYLIGHT
BEGIN:STANDARD
TZOFFSETFROM:+0200
TZOFFSETTO:+0100
TZNAME:CET
DTSTART:20251026T010000
END:STANDARD
BEGIN:DAYLIGHT
TZOFFSETFROM:+0100
TZOFFSETTO:+0200
TZNAME:CEST
DTSTART:20260329T010000
END:DAYLIGHT
BEGIN:STANDARD
TZOFFSETFROM:+0200
TZOFFSETTO:+0100
TZNAME:CET
DTSTART:20261025T010000
END:STANDARD
END:VTIMEZONE
BEGIN:VEVENT
DTSTART;TZID=Europe/Madrid:20250626T080000
DTEND;TZID=Europe/Madrid:20250626T090000
DTSTAMP:20260420T113923
CREATED:20250701T061810Z
LAST-MODIFIED:20250701T064041Z
UID:10000061-1750924800-1750928400@www.fundaciohospitalariesbarcelona.org
SUMMARY:Sessió general “Novetats en el tractament de nafres venoses"
DESCRIPTION:La sessió general del mes de juny\, amb el títol de ‘Novetats en el tractament de nafres venoses’\, tindrà lloc el proper 26 de juny\, de 8 a 9h a la sala d’actes de l’Hospital\, i serà impartida per Miguel Carceller i Carlos E. Marrero\, del Servei de Cirurgia Vascular. \nPodeu accedir al programa de sessions generals 2025.
URL:https://www.fundaciohospitalariesbarcelona.org/esdeveniment/sessio-general-novetats-en-el-tractament-de-nafres-venoses/
LOCATION:Barcelona
END:VEVENT
END:VCALENDAR