BEGIN:VCALENDAR
VERSION:2.0
PRODID:-//Fundació Hospitalàries Barcelona-Hospital General, antic Hospital Sant Rafael - ECPv6.15.15//NONSGML v1.0//EN
CALSCALE:GREGORIAN
METHOD:PUBLISH
X-ORIGINAL-URL:https://www.fundaciohospitalariesbarcelona.org
X-WR-CALDESC:Esdeveniments per Fundació Hospitalàries Barcelona-Hospital General, antic Hospital Sant Rafael
REFRESH-INTERVAL;VALUE=DURATION:PT1H
X-Robots-Tag:noindex
X-PUBLISHED-TTL:PT1H
BEGIN:VTIMEZONE
TZID:Europe/Madrid
BEGIN:DAYLIGHT
TZOFFSETFROM:+0100
TZOFFSETTO:+0200
TZNAME:CEST
DTSTART:20240331T010000
END:DAYLIGHT
BEGIN:STANDARD
TZOFFSETFROM:+0200
TZOFFSETTO:+0100
TZNAME:CET
DTSTART:20241027T010000
END:STANDARD
BEGIN:DAYLIGHT
TZOFFSETFROM:+0100
TZOFFSETTO:+0200
TZNAME:CEST
DTSTART:20250330T010000
END:DAYLIGHT
BEGIN:STANDARD
TZOFFSETFROM:+0200
TZOFFSETTO:+0100
TZNAME:CET
DTSTART:20251026T010000
END:STANDARD
BEGIN:DAYLIGHT
TZOFFSETFROM:+0100
TZOFFSETTO:+0200
TZNAME:CEST
DTSTART:20260329T010000
END:DAYLIGHT
BEGIN:STANDARD
TZOFFSETFROM:+0200
TZOFFSETTO:+0100
TZNAME:CET
DTSTART:20261025T010000
END:STANDARD
END:VTIMEZONE
BEGIN:VEVENT
DTSTART;TZID=Europe/Madrid:20250714T120000
DTEND;TZID=Europe/Madrid:20250714T140000
DTSTAMP:20260420T125733
CREATED:20250703T150536Z
LAST-MODIFIED:20250703T150943Z
UID:10000073-1752494400-1752501600@www.fundaciohospitalariesbarcelona.org
SUMMARY:Taller d'autocura pel Dia Internacional de les TCAI
DESCRIPTION:Amb motiu del Dia Internacional de les TCAI\, que es commemora el 14 de juliol\, des de la Fundació Hospitalàries Barcelona\, amb la col·laboració d’ÁLTIMA i en el marc del projecte Fem Salut!\, volem reconèixer la tasca essencial d’aquestes professionals\, les quals tenen com a missió cuidar dels altres cada dia. Per això\, organitzem un taller d’autocura el mateix dia 14\, de 12 a 14 h a la sala d’actes\, un espai per cultivar la cultura del cuidar\, també cap endins\, i adquirir eines per fer-ho. \nAquest taller\, que comptarà amb una part teòrica i amb una part pràctica\, serà impartit per Ainhoa Videgain\, psicòloga experta en psicooncologia i en cures pal·liatives. \nUs convidem a participar-hi i a regalar-vos una estona per reconnectar\, descansar i cuidar-vos. \nPodeu accedir al pòster adjunt i inscriure-us al següent formulari.
URL:https://www.fundaciohospitalariesbarcelona.org/esdeveniment/taller-dautocura-pel-dia-internacional-de-les-tcai/
LOCATION:Sala d’actes Fundació Hospitalàries Barcelona\, Pg. de la Vall d'Hebron\, 107\, Barcelona\, Barcelona\, 08035
END:VEVENT
BEGIN:VEVENT
DTSTART;TZID=Europe/Madrid:20250731T080000
DTEND;TZID=Europe/Madrid:20250731T090000
DTSTAMP:20260420T125733
CREATED:20250701T063955Z
LAST-MODIFIED:20250701T064440Z
UID:10000063-1753948800-1753952400@www.fundaciohospitalariesbarcelona.org
SUMMARY:Sessió general "Pla d'Innovació a la Fundació Hospitalàries"
DESCRIPTION:El 31 de juliol\, de 8 a 9 h a la sala d’actes de l’Hospital\, tindrà lloc la sessió general ‘Qualitat i Seguretat del Pacient i la gestió d’incidents de coordinació multinivell per a la millora contínua’\, a càrrec de Judith González\, del Servei d’Atenció Primària CAP Sant Rafael. \nPodeu accedir al programa de sessions generals 2025.
URL:https://www.fundaciohospitalariesbarcelona.org/esdeveniment/sessio-general-pla-dinnovacio-a-la-fundacio-hospitalaries/
LOCATION:Barcelona
END:VEVENT
END:VCALENDAR